BEGIN:VCALENDAR
PRODID:-//eluceo/ical//2.0/EN
VERSION:2.0
CALSCALE:GREGORIAN
BEGIN:VEVENT
UID:e5dcefc1f29c2713d2987e482237b9ec
DTSTAMP:20260420T155806Z
SUMMARY:Bob Dassie's Improv Mindset-Advanced (1/4)
DESCRIPTION:taught by Bob Dassie\nat WGIS Studio 2
DTSTART;TZID=America/Los_Angeles:20260407T190000
DTEND;TZID=America/Los_Angeles:20260407T220000
LOCATION:WGIS Studio 2
END:VEVENT
BEGIN:VEVENT
UID:5cd1ee34530bdb4405aa9ad4d5cd0c3c
DTSTAMP:20260420T155806Z
SUMMARY:Bob Dassie's Improv Mindset-Advanced (2/4)
DESCRIPTION:taught by Bob Dassie\nat WGIS Studio 2
DTSTART;TZID=America/Los_Angeles:20260414T190000
DTEND;TZID=America/Los_Angeles:20260414T220000
LOCATION:WGIS Studio 2
END:VEVENT
BEGIN:VEVENT
UID:97873b34e24ae95473563a0d4ca578ba
DTSTAMP:20260420T155806Z
SUMMARY:Bob Dassie's Improv Mindset-Advanced (3/4)
DESCRIPTION:taught by Bob Dassie\nat WGIS Studio 2
DTSTART;TZID=America/Los_Angeles:20260421T190000
DTEND;TZID=America/Los_Angeles:20260421T220000
LOCATION:WGIS Studio 2
END:VEVENT
BEGIN:VEVENT
UID:8465b8e75d50aa80b0768d07afa328c9
DTSTAMP:20260420T155806Z
SUMMARY:Bob Dassie's Improv Mindset-Advanced (4/4)
DESCRIPTION:taught by Bob Dassie\nat WGIS Studio 2
DTSTART;TZID=America/Los_Angeles:20260428T190000
DTEND;TZID=America/Los_Angeles:20260428T220000
LOCATION:WGIS Studio 2
END:VEVENT
BEGIN:VTIMEZONE
TZID:America/Los_Angeles
BEGIN:DAYLIGHT
DTSTART:20260401T000000
TZNAME:PDT
TZOFFSETTO:-0700
TZOFFSETFROM:-0700
END:DAYLIGHT
END:VTIMEZONE
END:VCALENDAR
