BEGIN:VCALENDAR
PRODID:-//eluceo/ical//2.0/EN
VERSION:2.0
CALSCALE:GREGORIAN
BEGIN:VEVENT
UID:ad6205643829408210d442518ae7e7eb
DTSTAMP:20260420T181458Z
SUMMARY:WGIS Drop-In - 4/9 (1/1)
DESCRIPTION:taught by Shannon O'Neill\nat Cre8tive NYC
DTSTART;TZID=America/New_York:20260409T153000
DTEND;TZID=America/New_York:20260409T180000
LOCATION:Cre8tive NYC
END:VEVENT
BEGIN:VTIMEZONE
TZID:America/New_York
BEGIN:DAYLIGHT
DTSTART:20260401T000000
TZNAME:EDT
TZOFFSETTO:-0400
TZOFFSETFROM:-0400
END:DAYLIGHT
END:VTIMEZONE
END:VCALENDAR
