BEGIN:VCALENDAR
PRODID:-//eluceo/ical//2.0/EN
VERSION:2.0
CALSCALE:GREGORIAN
BEGIN:VEVENT
UID:bb573911d49f2385ce09265ecae8e1cc
DTSTAMP:20260420T155913Z
SUMMARY:Consequences (1/1)
DESCRIPTION:taught by Laney Serface\nat WGIS Studio 1
DTSTART;TZID=America/Los_Angeles:20260509T150000
DTEND;TZID=America/Los_Angeles:20260509T180000
LOCATION:WGIS Studio 1
END:VEVENT
BEGIN:VTIMEZONE
TZID:America/Los_Angeles
BEGIN:DAYLIGHT
DTSTART:20260401T000000
TZNAME:PDT
TZOFFSETTO:-0700
TZOFFSETFROM:-0700
END:DAYLIGHT
END:VTIMEZONE
END:VCALENDAR
