BEGIN:VCALENDAR
PRODID:-//eluceo/ical//2.0/EN
VERSION:2.0
CALSCALE:GREGORIAN
BEGIN:VEVENT
UID:119fb5fce30cb72427b95d5e2da3c1d2
DTSTAMP:20260420T144123Z
SUMMARY:Big Time Yes! (1/4)
DESCRIPTION:taught by Ryan Rosenberg\nat Online
DTSTART;TZID=America/Los_Angeles:20260512T100000
DTEND;TZID=America/Los_Angeles:20260512T120000
LOCATION:Online
END:VEVENT
BEGIN:VEVENT
UID:247bf204e08c8f326ae17fe1c383c3fd
DTSTAMP:20260420T144123Z
SUMMARY:Big Time Yes! (2/4)
DESCRIPTION:taught by Ryan Rosenberg\nat Online
DTSTART;TZID=America/Los_Angeles:20260519T100000
DTEND;TZID=America/Los_Angeles:20260519T120000
LOCATION:Online
END:VEVENT
BEGIN:VEVENT
UID:250c57b8292f4fcf9bd033ab326deb8f
DTSTAMP:20260420T144123Z
SUMMARY:Big Time Yes! (3/4)
DESCRIPTION:taught by Ryan Rosenberg\nat Online
DTSTART;TZID=America/Los_Angeles:20260526T100000
DTEND;TZID=America/Los_Angeles:20260526T120000
LOCATION:Online
END:VEVENT
BEGIN:VEVENT
UID:06c3b9a41ee06755e54bd1b0db629c1d
DTSTAMP:20260420T144123Z
SUMMARY:Big Time Yes! (4/4)
DESCRIPTION:taught by Ryan Rosenberg\nat Online
DTSTART;TZID=America/Los_Angeles:20260602T100000
DTEND;TZID=America/Los_Angeles:20260602T120000
LOCATION:Online
END:VEVENT
BEGIN:VTIMEZONE
TZID:America/Los_Angeles
BEGIN:DAYLIGHT
DTSTART:20260401T000000
TZNAME:PDT
TZOFFSETTO:-0700
TZOFFSETFROM:-0700
END:DAYLIGHT
END:VTIMEZONE
END:VCALENDAR
