BEGIN:VCALENDAR
PRODID:-//eluceo/ical//2.0/EN
VERSION:2.0
CALSCALE:GREGORIAN
BEGIN:VEVENT
UID:25a9cc5f6e4764d79f126ba3d31baa69
DTSTAMP:20260420T162414Z
SUMMARY:Premise...but Fun! (1/4)
DESCRIPTION:taught by Jake Regal\nat Online
DTSTART;TZID=America/Los_Angeles:20260506T100000
DTEND;TZID=America/Los_Angeles:20260506T120000
LOCATION:Online
END:VEVENT
BEGIN:VEVENT
UID:5053ca53641bc50c36748eb0731c0f5a
DTSTAMP:20260420T162414Z
SUMMARY:Premise...but Fun! (2/4)
DESCRIPTION:taught by Jake Regal\nat Online
DTSTART;TZID=America/Los_Angeles:20260513T100000
DTEND;TZID=America/Los_Angeles:20260513T120000
LOCATION:Online
END:VEVENT
BEGIN:VEVENT
UID:06d4eec4c013a4155550e5597a414c6c
DTSTAMP:20260420T162414Z
SUMMARY:Premise...but Fun! (3/4)
DESCRIPTION:taught by Jake Regal\nat Online
DTSTART;TZID=America/Los_Angeles:20260520T100000
DTEND;TZID=America/Los_Angeles:20260520T120000
LOCATION:Online
END:VEVENT
BEGIN:VEVENT
UID:2f9edb41528d48103542a003f814929c
DTSTAMP:20260420T162414Z
SUMMARY:Premise...but Fun! (4/4)
DESCRIPTION:taught by Jake Regal\nat Online
DTSTART;TZID=America/Los_Angeles:20260527T100000
DTEND;TZID=America/Los_Angeles:20260527T120000
LOCATION:Online
END:VEVENT
BEGIN:VTIMEZONE
TZID:America/Los_Angeles
BEGIN:DAYLIGHT
DTSTART:20260401T000000
TZNAME:PDT
TZOFFSETTO:-0700
TZOFFSETFROM:-0700
END:DAYLIGHT
END:VTIMEZONE
END:VCALENDAR
