BEGIN:VCALENDAR
PRODID:-//eluceo/ical//2.0/EN
VERSION:2.0
CALSCALE:GREGORIAN
BEGIN:VEVENT
UID:5f32d0791cad0b615c8ffa519a2413f4
DTSTAMP:20260424T062811Z
SUMMARY:Scene Notes: Hard or Easy? (1/4)
DESCRIPTION:taught by Jim Wood$\nat Online
DTSTART;TZID=America/Los_Angeles:20260424T110000
DTEND;TZID=America/Los_Angeles:20260424T130000
LOCATION:Online
END:VEVENT
BEGIN:VEVENT
UID:7f9710cb44502ec404bb3980e0b6d5b4
DTSTAMP:20260424T062811Z
SUMMARY:Scene Notes: Hard or Easy? (2/4)
DESCRIPTION:taught by Jim Wood$\nat Online
DTSTART;TZID=America/Los_Angeles:20260501T110000
DTEND;TZID=America/Los_Angeles:20260501T130000
LOCATION:Online
END:VEVENT
BEGIN:VEVENT
UID:396872e3ad1120e1fbec58e9d281b708
DTSTAMP:20260424T062811Z
SUMMARY:Scene Notes: Hard or Easy? (3/4)
DESCRIPTION:taught by Jim Wood$\nat Online
DTSTART;TZID=America/Los_Angeles:20260508T110000
DTEND;TZID=America/Los_Angeles:20260508T130000
LOCATION:Online
END:VEVENT
BEGIN:VEVENT
UID:e8f8b62f798d7e01147e09066cedb17b
DTSTAMP:20260424T062811Z
SUMMARY:Scene Notes: Hard or Easy? (4/4)
DESCRIPTION:taught by Jim Wood$\nat Online
DTSTART;TZID=America/Los_Angeles:20260515T110000
DTEND;TZID=America/Los_Angeles:20260515T130000
LOCATION:Online
END:VEVENT
BEGIN:VTIMEZONE
TZID:America/Los_Angeles
BEGIN:DAYLIGHT
DTSTART:20260401T000000
TZNAME:PDT
TZOFFSETTO:-0700
TZOFFSETFROM:-0700
END:DAYLIGHT
END:VTIMEZONE
END:VCALENDAR
