BEGIN:VCALENDAR
PRODID:-//eluceo/ical//2.0/EN
VERSION:2.0
CALSCALE:GREGORIAN
BEGIN:VEVENT
UID:3f3844d07e93d484881345ebc2768bf5
DTSTAMP:20260424T044105Z
SUMMARY:The Improvised Play (1/6)
DESCRIPTION:taught by Brandon Gardner\nat Online
DTSTART;TZID=America/Los_Angeles:20210104T180000
DTEND;TZID=America/Los_Angeles:20210104T200000
LOCATION:Online
END:VEVENT
BEGIN:VEVENT
UID:e3e0e824b9b0125bec25c26a3b9b0700
DTSTAMP:20260424T044105Z
SUMMARY:The Improvised Play (2/6)
DESCRIPTION:taught by Brandon Gardner\nat Online
DTSTART;TZID=America/Los_Angeles:20210111T180000
DTEND;TZID=America/Los_Angeles:20210111T200000
LOCATION:Online
END:VEVENT
BEGIN:VEVENT
UID:0c8566e3e19030d340cb3c3cd3163826
DTSTAMP:20260424T044105Z
SUMMARY:The Improvised Play (3/6)
DESCRIPTION:taught by Brandon Gardner\nat Online
DTSTART;TZID=America/Los_Angeles:20210118T180000
DTEND;TZID=America/Los_Angeles:20210118T200000
LOCATION:Online
END:VEVENT
BEGIN:VEVENT
UID:1987ec4df87d708009c2b892c1e4bd3b
DTSTAMP:20260424T044105Z
SUMMARY:The Improvised Play (4/6)
DESCRIPTION:taught by Brandon Gardner\nat Online
DTSTART;TZID=America/Los_Angeles:20210125T180000
DTEND;TZID=America/Los_Angeles:20210125T200000
LOCATION:Online
END:VEVENT
BEGIN:VEVENT
UID:5819ee31b7d57963a733d599cc9e31d9
DTSTAMP:20260424T044105Z
SUMMARY:The Improvised Play (5/6)
DESCRIPTION:taught by Brandon Gardner\nat Online
DTSTART;TZID=America/Los_Angeles:20210201T180000
DTEND;TZID=America/Los_Angeles:20210201T200000
LOCATION:Online
END:VEVENT
BEGIN:VEVENT
UID:101823c87dd9340e42848e36aae452ae
DTSTAMP:20260424T044105Z
SUMMARY:The Improvised Play (6/6)
DESCRIPTION:taught by Brandon Gardner\nat Online
DTSTART;TZID=America/Los_Angeles:20210208T193000
DTEND;TZID=America/Los_Angeles:20210208T203000
LOCATION:Online
END:VEVENT
BEGIN:VTIMEZONE
TZID:America/Los_Angeles
BEGIN:DAYLIGHT
DTSTART:20260401T000000
TZNAME:PDT
TZOFFSETTO:-0700
TZOFFSETFROM:-0700
END:DAYLIGHT
END:VTIMEZONE
END:VCALENDAR
