BEGIN:VCALENDAR
PRODID:-//eluceo/ical//2.0/EN
VERSION:2.0
CALSCALE:GREGORIAN
BEGIN:VEVENT
UID:71553f1019afd21568bfc537a38c2430
DTSTAMP:20260424T044059Z
SUMMARY:Sketch 1 (1/6)
DESCRIPTION:taught by Nate Smith\nat Online
DTSTART;TZID=America/Los_Angeles:20210111T170000
DTEND;TZID=America/Los_Angeles:20210111T190000
LOCATION:Online
END:VEVENT
BEGIN:VEVENT
UID:9ceecd1815c8f0f229b21ecbed3ebfe8
DTSTAMP:20260424T044059Z
SUMMARY:Sketch 1 (2/6)
DESCRIPTION:taught by Nate Smith\nat Online
DTSTART;TZID=America/Los_Angeles:20210118T170000
DTEND;TZID=America/Los_Angeles:20210118T190000
LOCATION:Online
END:VEVENT
BEGIN:VEVENT
UID:3fd469acd6785afa49400d86a614e5f3
DTSTAMP:20260424T044059Z
SUMMARY:Sketch 1 (3/6)
DESCRIPTION:taught by Nate Smith\nat Online
DTSTART;TZID=America/Los_Angeles:20210125T170000
DTEND;TZID=America/Los_Angeles:20210125T190000
LOCATION:Online
END:VEVENT
BEGIN:VEVENT
UID:fb242e7c8e7f17b90030c6326cd35e5a
DTSTAMP:20260424T044059Z
SUMMARY:Sketch 1 (4/6)
DESCRIPTION:taught by Nate Smith\nat Online
DTSTART;TZID=America/Los_Angeles:20210201T170000
DTEND;TZID=America/Los_Angeles:20210201T190000
LOCATION:Online
END:VEVENT
BEGIN:VEVENT
UID:9c1e0fe05db06dc8c8c4460e2fb07e3a
DTSTAMP:20260424T044059Z
SUMMARY:Sketch 1 (5/6)
DESCRIPTION:taught by Nate Smith\nat Online
DTSTART;TZID=America/Los_Angeles:20210208T170000
DTEND;TZID=America/Los_Angeles:20210208T190000
LOCATION:Online
END:VEVENT
BEGIN:VEVENT
UID:0c0457b61263b80cc2f73d4b6f848265
DTSTAMP:20260424T044059Z
SUMMARY:Sketch 1 (6/6)
DESCRIPTION:taught by Nate Smith\nat Online
DTSTART;TZID=America/Los_Angeles:20210215T163000
DTEND;TZID=America/Los_Angeles:20210215T180000
LOCATION:Online
END:VEVENT
BEGIN:VTIMEZONE
TZID:America/Los_Angeles
BEGIN:DAYLIGHT
DTSTART:20260401T000000
TZNAME:PDT
TZOFFSETTO:-0700
TZOFFSETFROM:-0700
END:DAYLIGHT
END:VTIMEZONE
END:VCALENDAR
