BEGIN:VCALENDAR
PRODID:-//eluceo/ical//2.0/EN
VERSION:2.0
CALSCALE:GREGORIAN
BEGIN:VEVENT
UID:397dae6dac47abacb19e62a120373cf6
DTSTAMP:20260423T014032Z
SUMMARY:Sketch 1 (1/6)
DESCRIPTION:taught by Nate Smith\nat Online
DTSTART;TZID=America/Los_Angeles:20210115T110000
DTEND;TZID=America/Los_Angeles:20210115T130000
LOCATION:Online
END:VEVENT
BEGIN:VEVENT
UID:45e7e37e6450baee583a49353223ff1c
DTSTAMP:20260423T014032Z
SUMMARY:Sketch 1 (2/6)
DESCRIPTION:taught by Nate Smith\nat Online
DTSTART;TZID=America/Los_Angeles:20210122T110000
DTEND;TZID=America/Los_Angeles:20210122T130000
LOCATION:Online
END:VEVENT
BEGIN:VEVENT
UID:28820dbc79e927bd8f495b2e567fe27e
DTSTAMP:20260423T014032Z
SUMMARY:Sketch 1 (3/6)
DESCRIPTION:taught by Nate Smith\nat Online
DTSTART;TZID=America/Los_Angeles:20210129T110000
DTEND;TZID=America/Los_Angeles:20210129T130000
LOCATION:Online
END:VEVENT
BEGIN:VEVENT
UID:ccb296469e70fe8edee175530bf8f6bd
DTSTAMP:20260423T014032Z
SUMMARY:Sketch 1 (4/6)
DESCRIPTION:taught by Nate Smith\nat Online
DTSTART;TZID=America/Los_Angeles:20210205T110000
DTEND;TZID=America/Los_Angeles:20210205T130000
LOCATION:Online
END:VEVENT
BEGIN:VEVENT
UID:608cd79e44904f137d210755a2c65ee7
DTSTAMP:20260423T014032Z
SUMMARY:Sketch 1 (5/6)
DESCRIPTION:taught by Nate Smith\nat Online
DTSTART;TZID=America/Los_Angeles:20210212T110000
DTEND;TZID=America/Los_Angeles:20210212T130000
LOCATION:Online
END:VEVENT
BEGIN:VEVENT
UID:048c774d34148a331cc1fa717dd62c6f
DTSTAMP:20260423T014032Z
SUMMARY:Sketch 1 (6/6)
DESCRIPTION:taught by Nate Smith\nat Online
DTSTART;TZID=America/Los_Angeles:20210219T110000
DTEND;TZID=America/Los_Angeles:20210219T130000
LOCATION:Online
END:VEVENT
BEGIN:VTIMEZONE
TZID:America/Los_Angeles
BEGIN:DAYLIGHT
DTSTART:20260401T000000
TZNAME:PDT
TZOFFSETTO:-0700
TZOFFSETFROM:-0700
END:DAYLIGHT
END:VTIMEZONE
END:VCALENDAR
