BEGIN:VCALENDAR
PRODID:-//eluceo/ical//2.0/EN
VERSION:2.0
CALSCALE:GREGORIAN
BEGIN:VEVENT
UID:e8c2ef3e363d1934e8882b4280015fc8
DTSTAMP:20260424T043933Z
SUMMARY:Improv 3: The Harold (1/6)
DESCRIPTION:taught by Brandon Gardner\nat Online
DTSTART;TZID=America/Los_Angeles:20210112T160000
DTEND;TZID=America/Los_Angeles:20210112T180000
LOCATION:Online
END:VEVENT
BEGIN:VEVENT
UID:93b26806459a157be015e2584078b141
DTSTAMP:20260424T043933Z
SUMMARY:Improv 3: The Harold (2/6)
DESCRIPTION:taught by Brandon Gardner\nat Online
DTSTART;TZID=America/Los_Angeles:20210119T160000
DTEND;TZID=America/Los_Angeles:20210119T180000
LOCATION:Online
END:VEVENT
BEGIN:VEVENT
UID:c651420c94fd2e8140964e841ba1f1e6
DTSTAMP:20260424T043933Z
SUMMARY:Improv 3: The Harold (3/6)
DESCRIPTION:taught by Brandon Gardner\nat Online
DTSTART;TZID=America/Los_Angeles:20210126T160000
DTEND;TZID=America/Los_Angeles:20210126T180000
LOCATION:Online
END:VEVENT
BEGIN:VEVENT
UID:a62944e2064b48badc74ea9a52905849
DTSTAMP:20260424T043933Z
SUMMARY:Improv 3: The Harold (4/6)
DESCRIPTION:taught by Brandon Gardner\nat Online
DTSTART;TZID=America/Los_Angeles:20210202T160000
DTEND;TZID=America/Los_Angeles:20210202T180000
LOCATION:Online
END:VEVENT
BEGIN:VEVENT
UID:b53cb1775f622448c9fcb97a84d1cef7
DTSTAMP:20260424T043933Z
SUMMARY:Improv 3: The Harold (5/6)
DESCRIPTION:taught by Brandon Gardner\nat Online
DTSTART;TZID=America/Los_Angeles:20210209T160000
DTEND;TZID=America/Los_Angeles:20210209T180000
LOCATION:Online
END:VEVENT
BEGIN:VEVENT
UID:c60c44d327a15e2a5ff0aade428276f8
DTSTAMP:20260424T043933Z
SUMMARY:Improv 3: The Harold (6/6)
DESCRIPTION:taught by Brandon Gardner\nat Online
DTSTART;TZID=America/Los_Angeles:20210216T160000
DTEND;TZID=America/Los_Angeles:20210216T170000
LOCATION:Online
END:VEVENT
BEGIN:VTIMEZONE
TZID:America/Los_Angeles
BEGIN:DAYLIGHT
DTSTART:20260401T000000
TZNAME:PDT
TZOFFSETTO:-0700
TZOFFSETFROM:-0700
END:DAYLIGHT
END:VTIMEZONE
END:VCALENDAR
