BEGIN:VCALENDAR
PRODID:-//eluceo/ical//2.0/EN
VERSION:2.0
CALSCALE:GREGORIAN
BEGIN:VEVENT
UID:c9fdb758aac72c09578af8100ce39416
DTSTAMP:20260424T044212Z
SUMMARY:Improv 2: Monoscene (1/7)
DESCRIPTION:taught by Julie Brister\nat Online
DTSTART;TZID=America/Los_Angeles:20210112T170000
DTEND;TZID=America/Los_Angeles:20210112T190000
LOCATION:Online
END:VEVENT
BEGIN:VEVENT
UID:4c43c413744392314b4f0a975d362679
DTSTAMP:20260424T044212Z
SUMMARY:Improv 2: Monoscene (2/7)
DESCRIPTION:taught by Julie Brister\nat Online
DTSTART;TZID=America/Los_Angeles:20210119T170000
DTEND;TZID=America/Los_Angeles:20210119T190000
LOCATION:Online
END:VEVENT
BEGIN:VEVENT
UID:5d24773fbcc9632ec2c035addc6da414
DTSTAMP:20260424T044212Z
SUMMARY:Improv 2: Monoscene (3/7)
DESCRIPTION:taught by Julie Brister\nat Online
DTSTART;TZID=America/Los_Angeles:20210126T170000
DTEND;TZID=America/Los_Angeles:20210126T190000
LOCATION:Online
END:VEVENT
BEGIN:VEVENT
UID:3b6a716ff1292ccbf0c053ee158b3b94
DTSTAMP:20260424T044212Z
SUMMARY:Improv 2: Monoscene (4/7)
DESCRIPTION:taught by Julie Brister\nat Online
DTSTART;TZID=America/Los_Angeles:20210202T170000
DTEND;TZID=America/Los_Angeles:20210202T190000
LOCATION:Online
END:VEVENT
BEGIN:VEVENT
UID:a1082287fc7fb91360c1b07c8ad08a0f
DTSTAMP:20260424T044212Z
SUMMARY:Improv 2: Monoscene (5/7)
DESCRIPTION:taught by Julie Brister\nat Online
DTSTART;TZID=America/Los_Angeles:20210209T170000
DTEND;TZID=America/Los_Angeles:20210209T190000
LOCATION:Online
END:VEVENT
BEGIN:VEVENT
UID:2c35ebab7eb977e251eed2b759a097ef
DTSTAMP:20260424T044212Z
SUMMARY:Improv 2: Monoscene (6/7)
DESCRIPTION:taught by Julie Brister\nat Online
DTSTART;TZID=America/Los_Angeles:20210216T170000
DTEND;TZID=America/Los_Angeles:20210216T180000
LOCATION:Online
END:VEVENT
BEGIN:VEVENT
UID:73186fecd4a73424f76699e5bbf123d7
DTSTAMP:20260424T044212Z
SUMMARY:Improv 2: Monoscene (7/7)
DESCRIPTION:taught by Julie Brister\nat Online
DTSTART;TZID=America/Los_Angeles:20210217T170000
DTEND;TZID=America/Los_Angeles:20210217T180000
LOCATION:Online
END:VEVENT
BEGIN:VTIMEZONE
TZID:America/Los_Angeles
BEGIN:DAYLIGHT
DTSTART:20260401T000000
TZNAME:PDT
TZOFFSETTO:-0700
TZOFFSETFROM:-0700
END:DAYLIGHT
END:VTIMEZONE
END:VCALENDAR
