BEGIN:VCALENDAR
PRODID:-//eluceo/ical//2.0/EN
VERSION:2.0
CALSCALE:GREGORIAN
BEGIN:VEVENT
UID:7c002bee2ae9452496ed37d3072f1244
DTSTAMP:20260424T043934Z
SUMMARY:Duo Class (1/5)
DESCRIPTION:taught by Alex Berg\nat Online
DTSTART;TZID=America/Los_Angeles:20210112T170000
DTEND;TZID=America/Los_Angeles:20210112T190000
LOCATION:Online
END:VEVENT
BEGIN:VEVENT
UID:b3ce93e4269eacea90a208ef3e51ab69
DTSTAMP:20260424T043934Z
SUMMARY:Duo Class (2/5)
DESCRIPTION:taught by Alex Berg\nat Online
DTSTART;TZID=America/Los_Angeles:20210119T170000
DTEND;TZID=America/Los_Angeles:20210119T190000
LOCATION:Online
END:VEVENT
BEGIN:VEVENT
UID:ce9a8b0fb885141821818c663d6284ab
DTSTAMP:20260424T043934Z
SUMMARY:Duo Class (3/5)
DESCRIPTION:taught by Alex Berg\nat Online
DTSTART;TZID=America/Los_Angeles:20210126T170000
DTEND;TZID=America/Los_Angeles:20210126T190000
LOCATION:Online
END:VEVENT
BEGIN:VEVENT
UID:552696d898ab73986cedba6751b86e29
DTSTAMP:20260424T043934Z
SUMMARY:Duo Class (4/5)
DESCRIPTION:taught by Alex Berg\nat Online
DTSTART;TZID=America/Los_Angeles:20210202T170000
DTEND;TZID=America/Los_Angeles:20210202T190000
LOCATION:Online
END:VEVENT
BEGIN:VEVENT
UID:8d25c1c7869c456029a013da3c9701d9
DTSTAMP:20260424T043934Z
SUMMARY:Duo Class (5/5)
DESCRIPTION:taught by Alex Berg\nat Online
DTSTART;TZID=America/Los_Angeles:20210209T170000
DTEND;TZID=America/Los_Angeles:20210209T190000
LOCATION:Online
END:VEVENT
BEGIN:VTIMEZONE
TZID:America/Los_Angeles
BEGIN:DAYLIGHT
DTSTART:20260401T000000
TZNAME:PDT
TZOFFSETTO:-0700
TZOFFSETFROM:-0700
END:DAYLIGHT
END:VTIMEZONE
END:VCALENDAR
