BEGIN:VCALENDAR
PRODID:-//eluceo/ical//2.0/EN
VERSION:2.0
CALSCALE:GREGORIAN
BEGIN:VEVENT
UID:6d2a554020bb6790a7bb89c2ffe17dc8
DTSTAMP:20260424T044115Z
SUMMARY:La Ronde (1/6)
DESCRIPTION:taught by Alex Berg\nat Online
DTSTART;TZID=America/Los_Angeles:20210112T110000
DTEND;TZID=America/Los_Angeles:20210112T130000
LOCATION:Online
END:VEVENT
BEGIN:VEVENT
UID:be90b265aa17a47bb173b3f253a06d0a
DTSTAMP:20260424T044115Z
SUMMARY:La Ronde (2/6)
DESCRIPTION:taught by Alex Berg\nat Online
DTSTART;TZID=America/Los_Angeles:20210119T110000
DTEND;TZID=America/Los_Angeles:20210119T130000
LOCATION:Online
END:VEVENT
BEGIN:VEVENT
UID:d6930bf36348453c83669b1872dd4d29
DTSTAMP:20260424T044115Z
SUMMARY:La Ronde (3/6)
DESCRIPTION:taught by Alex Berg\nat Online
DTSTART;TZID=America/Los_Angeles:20210126T110000
DTEND;TZID=America/Los_Angeles:20210126T130000
LOCATION:Online
END:VEVENT
BEGIN:VEVENT
UID:22bcfdb187b9dfad682c2ceb5b752732
DTSTAMP:20260424T044115Z
SUMMARY:La Ronde (4/6)
DESCRIPTION:taught by Alex Berg\nat Online
DTSTART;TZID=America/Los_Angeles:20210202T110000
DTEND;TZID=America/Los_Angeles:20210202T130000
LOCATION:Online
END:VEVENT
BEGIN:VEVENT
UID:4fd472aaefcb390154040b508c3fea7f
DTSTAMP:20260424T044115Z
SUMMARY:La Ronde (5/6)
DESCRIPTION:taught by Alex Berg\nat Online
DTSTART;TZID=America/Los_Angeles:20210209T110000
DTEND;TZID=America/Los_Angeles:20210209T130000
LOCATION:Online
END:VEVENT
BEGIN:VEVENT
UID:90e858cfdbdffa086338acb8b9cfc2f7
DTSTAMP:20260424T044115Z
SUMMARY:La Ronde (6/6)
DESCRIPTION:taught by Alex Berg\nat Online
DTSTART;TZID=America/Los_Angeles:20210216T110000
DTEND;TZID=America/Los_Angeles:20210216T130000
LOCATION:Online
END:VEVENT
BEGIN:VTIMEZONE
TZID:America/Los_Angeles
BEGIN:DAYLIGHT
DTSTART:20260401T000000
TZNAME:PDT
TZOFFSETTO:-0700
TZOFFSETFROM:-0700
END:DAYLIGHT
END:VTIMEZONE
END:VCALENDAR
