BEGIN:VCALENDAR
PRODID:-//eluceo/ical//2.0/EN
VERSION:2.0
CALSCALE:GREGORIAN
BEGIN:VEVENT
UID:3fbfadcad20b289bcdf009c54c3df9a0
DTSTAMP:20260424T043933Z
SUMMARY:Improv 1: Monologue Show (1/6)
DESCRIPTION:taught by Will Hines\nat Online
DTSTART;TZID=America/Los_Angeles:20210112T110000
DTEND;TZID=America/Los_Angeles:20210112T131500
LOCATION:Online
END:VEVENT
BEGIN:VEVENT
UID:52fec08b12eb9f0e5290c6171fd9e8b4
DTSTAMP:20260424T043933Z
SUMMARY:Improv 1: Monologue Show (2/6)
DESCRIPTION:taught by Will Hines\nat Online
DTSTART;TZID=America/Los_Angeles:20210119T110000
DTEND;TZID=America/Los_Angeles:20210119T131500
LOCATION:Online
END:VEVENT
BEGIN:VEVENT
UID:4445ffc36bfdd17769968c73c44c9803
DTSTAMP:20260424T043933Z
SUMMARY:Improv 1: Monologue Show (3/6)
DESCRIPTION:taught by Will Hines\nat Online
DTSTART;TZID=America/Los_Angeles:20210126T110000
DTEND;TZID=America/Los_Angeles:20210126T131500
LOCATION:Online
END:VEVENT
BEGIN:VEVENT
UID:78fc787defb16ff0142425bf2913704b
DTSTAMP:20260424T043933Z
SUMMARY:Improv 1: Monologue Show (4/6)
DESCRIPTION:taught by Will Hines\nat Online
DTSTART;TZID=America/Los_Angeles:20210202T110000
DTEND;TZID=America/Los_Angeles:20210202T131500
LOCATION:Online
END:VEVENT
BEGIN:VEVENT
UID:3bf09385fe1bb8d95a266a3d854e002a
DTSTAMP:20260424T043933Z
SUMMARY:Improv 1: Monologue Show (5/6)
DESCRIPTION:taught by Will Hines\nat Online
DTSTART;TZID=America/Los_Angeles:20210209T110000
DTEND;TZID=America/Los_Angeles:20210209T131500
LOCATION:Online
END:VEVENT
BEGIN:VEVENT
UID:88fbe1b53b403608ef2176fb41cd3757
DTSTAMP:20260424T043933Z
SUMMARY:Improv 1: Monologue Show (6/6)
DESCRIPTION:taught by Will Hines\nat Online
DTSTART;TZID=America/Los_Angeles:20210216T110000
DTEND;TZID=America/Los_Angeles:20210216T120000
LOCATION:Online
END:VEVENT
BEGIN:VTIMEZONE
TZID:America/Los_Angeles
BEGIN:DAYLIGHT
DTSTART:20260401T000000
TZNAME:PDT
TZOFFSETTO:-0700
TZOFFSETFROM:-0700
END:DAYLIGHT
END:VTIMEZONE
END:VCALENDAR
