BEGIN:VCALENDAR
PRODID:-//eluceo/ical//2.0/EN
VERSION:2.0
CALSCALE:GREGORIAN
BEGIN:VEVENT
UID:08064dc25efe0ecc78831a2664dedf73
DTSTAMP:20260424T044059Z
SUMMARY:Improv 4: Good Montage (1/7)
DESCRIPTION:taught by Will Hines\nat Online
DTSTART;TZID=America/Los_Angeles:20210113T110000
DTEND;TZID=America/Los_Angeles:20210131T130000
LOCATION:Online
END:VEVENT
BEGIN:VEVENT
UID:5b5e2c032c3af66fecd2dec966a93368
DTSTAMP:20260424T044059Z
SUMMARY:Improv 4: Good Montage (2/7)
DESCRIPTION:taught by Will Hines\nat Online
DTSTART;TZID=America/Los_Angeles:20210120T110000
DTEND;TZID=America/Los_Angeles:20210120T130000
LOCATION:Online
END:VEVENT
BEGIN:VEVENT
UID:091abdc636aebbb715dc330582f7c4c6
DTSTAMP:20260424T044059Z
SUMMARY:Improv 4: Good Montage (3/7)
DESCRIPTION:taught by Will Hines\nat Online
DTSTART;TZID=America/Los_Angeles:20210127T110000
DTEND;TZID=America/Los_Angeles:20210127T130000
LOCATION:Online
END:VEVENT
BEGIN:VEVENT
UID:5ae5dd23f3f7d48cf1ae46528051b771
DTSTAMP:20260424T044059Z
SUMMARY:Improv 4: Good Montage (4/7)
DESCRIPTION:taught by Will Hines\nat Online
DTSTART;TZID=America/Los_Angeles:20210203T110000
DTEND;TZID=America/Los_Angeles:20210203T130000
LOCATION:Online
END:VEVENT
BEGIN:VEVENT
UID:6c45723698ee47bfd2dfd4b8f0edc1bb
DTSTAMP:20260424T044059Z
SUMMARY:Improv 4: Good Montage (5/7)
DESCRIPTION:taught by Will Hines\nat Online
DTSTART;TZID=America/Los_Angeles:20210210T110000
DTEND;TZID=America/Los_Angeles:20210210T130000
LOCATION:Online
END:VEVENT
BEGIN:VEVENT
UID:28e71cbc99d3da799366a06c53bf2f27
DTSTAMP:20260424T044059Z
SUMMARY:Improv 4: Good Montage (6/7)
DESCRIPTION:taught by Will Hines\nat Online
DTSTART;TZID=America/Los_Angeles:20210216T110000
DTEND;TZID=America/Los_Angeles:20210216T120000
LOCATION:Online
END:VEVENT
BEGIN:VEVENT
UID:348ed76cdd93ce44d65b4fbd14619471
DTSTAMP:20260424T044059Z
SUMMARY:Improv 4: Good Montage (7/7)
DESCRIPTION:taught by Will Hines\nat Online
DTSTART;TZID=America/Los_Angeles:20210217T110000
DTEND;TZID=America/Los_Angeles:20210217T130000
LOCATION:Online
END:VEVENT
BEGIN:VTIMEZONE
TZID:America/Los_Angeles
BEGIN:DAYLIGHT
DTSTART:20260401T000000
TZNAME:PDT
TZOFFSETTO:-0700
TZOFFSETFROM:-0700
END:DAYLIGHT
END:VTIMEZONE
END:VCALENDAR
