BEGIN:VCALENDAR
PRODID:-//eluceo/ical//2.0/EN
VERSION:2.0
CALSCALE:GREGORIAN
BEGIN:VEVENT
UID:91d4c570d1e1eefa5e043c901480958b
DTSTAMP:20260424T044212Z
SUMMARY:Improv 3: The Harold (1/6)
DESCRIPTION:taught by Julie Brister\nat Online
DTSTART;TZID=America/Los_Angeles:20210114T110000
DTEND;TZID=America/Los_Angeles:20210114T130000
LOCATION:Online
END:VEVENT
BEGIN:VEVENT
UID:1a7219dbaea3a22c1b17a7a94db84318
DTSTAMP:20260424T044212Z
SUMMARY:Improv 3: The Harold (2/6)
DESCRIPTION:taught by Julie Brister\nat Online
DTSTART;TZID=America/Los_Angeles:20210121T110000
DTEND;TZID=America/Los_Angeles:20210121T130000
LOCATION:Online
END:VEVENT
BEGIN:VEVENT
UID:7512b46c7afdcd446adf47257eb91acb
DTSTAMP:20260424T044212Z
SUMMARY:Improv 3: The Harold (3/6)
DESCRIPTION:taught by Julie Brister\nat Online
DTSTART;TZID=America/Los_Angeles:20210128T110000
DTEND;TZID=America/Los_Angeles:20210128T130000
LOCATION:Online
END:VEVENT
BEGIN:VEVENT
UID:1ff6e3cfc297c075cd152a813ce380bc
DTSTAMP:20260424T044212Z
SUMMARY:Improv 3: The Harold (4/6)
DESCRIPTION:taught by Julie Brister\nat Online
DTSTART;TZID=America/Los_Angeles:20210204T110000
DTEND;TZID=America/Los_Angeles:20210204T130000
LOCATION:Online
END:VEVENT
BEGIN:VEVENT
UID:956262fb7584f0b95c5484589b15fc80
DTSTAMP:20260424T044212Z
SUMMARY:Improv 3: The Harold (5/6)
DESCRIPTION:taught by Julie Brister\nat Online
DTSTART;TZID=America/Los_Angeles:20210211T110000
DTEND;TZID=America/Los_Angeles:20210211T130000
LOCATION:Online
END:VEVENT
BEGIN:VEVENT
UID:e70d30a68d17b147685c362319a67a29
DTSTAMP:20260424T044212Z
SUMMARY:Improv 3: The Harold (6/6)
DESCRIPTION:taught by Julie Brister\nat Online
DTSTART;TZID=America/Los_Angeles:20210218T121500
DTEND;TZID=America/Los_Angeles:20210218T131500
LOCATION:Online
END:VEVENT
BEGIN:VTIMEZONE
TZID:America/Los_Angeles
BEGIN:DAYLIGHT
DTSTART:20260401T000000
TZNAME:PDT
TZOFFSETTO:-0700
TZOFFSETFROM:-0700
END:DAYLIGHT
END:VTIMEZONE
END:VCALENDAR
