BEGIN:VCALENDAR
PRODID:-//eluceo/ical//2.0/EN
VERSION:2.0
CALSCALE:GREGORIAN
BEGIN:VEVENT
UID:f61a396ba9bfb522ef9ac859074fe04f
DTSTAMP:20260424T044116Z
SUMMARY:Improv 2: Pretty Flower (1/6)
DESCRIPTION:taught by Aman Adumer\nat Online
DTSTART;TZID=America/Los_Angeles:20210116T110000
DTEND;TZID=America/Los_Angeles:20210116T130000
LOCATION:Online
END:VEVENT
BEGIN:VEVENT
UID:fe95bf52361e2f449aaac5e08edae1f5
DTSTAMP:20260424T044116Z
SUMMARY:Improv 2: Pretty Flower (2/6)
DESCRIPTION:taught by Aman Adumer\nat Online
DTSTART;TZID=America/Los_Angeles:20210123T110000
DTEND;TZID=America/Los_Angeles:20210123T130000
LOCATION:Online
END:VEVENT
BEGIN:VEVENT
UID:dc2011084f8e641ef647b4671e031cf6
DTSTAMP:20260424T044116Z
SUMMARY:Improv 2: Pretty Flower (3/6)
DESCRIPTION:taught by Aman Adumer\nat Online
DTSTART;TZID=America/Los_Angeles:20210130T110000
DTEND;TZID=America/Los_Angeles:20210130T130000
LOCATION:Online
END:VEVENT
BEGIN:VEVENT
UID:38b0d45e323cb11887d1814694e9cb51
DTSTAMP:20260424T044116Z
SUMMARY:Improv 2: Pretty Flower (4/6)
DESCRIPTION:taught by Aman Adumer\nat Online
DTSTART;TZID=America/Los_Angeles:20210206T110000
DTEND;TZID=America/Los_Angeles:20210206T130000
LOCATION:Online
END:VEVENT
BEGIN:VEVENT
UID:07f35d0ab5894f03f5768f984ad688d1
DTSTAMP:20260424T044116Z
SUMMARY:Improv 2: Pretty Flower (5/6)
DESCRIPTION:taught by Aman Adumer\nat Online
DTSTART;TZID=America/Los_Angeles:20210213T110000
DTEND;TZID=America/Los_Angeles:20210213T130000
LOCATION:Online
END:VEVENT
BEGIN:VEVENT
UID:f5b2bab02540538071fddf9c69b7dd6b
DTSTAMP:20260424T044116Z
SUMMARY:Improv 2: Pretty Flower (6/6)
DESCRIPTION:taught by Aman Adumer\nat Online
DTSTART;TZID=America/Los_Angeles:20210220T110000
DTEND;TZID=America/Los_Angeles:20210220T130000
LOCATION:Online
END:VEVENT
BEGIN:VTIMEZONE
TZID:America/Los_Angeles
BEGIN:DAYLIGHT
DTSTART:20260401T000000
TZNAME:PDT
TZOFFSETTO:-0700
TZOFFSETFROM:-0700
END:DAYLIGHT
END:VTIMEZONE
END:VCALENDAR
