BEGIN:VCALENDAR
PRODID:-//eluceo/ical//2.0/EN
VERSION:2.0
CALSCALE:GREGORIAN
BEGIN:VEVENT
UID:55d0d26c0404daf22110523602ced1a2
DTSTAMP:20260424T044212Z
SUMMARY:Improv 2: Monoscene (1/6)
DESCRIPTION:taught by Julie Brister\nat Online
DTSTART;TZID=America/Los_Angeles:20210113T100000
DTEND;TZID=America/Los_Angeles:20210113T120000
LOCATION:Online
END:VEVENT
BEGIN:VEVENT
UID:20eaa54b1386429b7d7b37df1d81c239
DTSTAMP:20260424T044212Z
SUMMARY:Improv 2: Monoscene (2/6)
DESCRIPTION:taught by Julie Brister\nat Online
DTSTART;TZID=America/Los_Angeles:20210120T100000
DTEND;TZID=America/Los_Angeles:20210120T120000
LOCATION:Online
END:VEVENT
BEGIN:VEVENT
UID:abaf1ae4e60f98bfbe21f63b3ef0b4d0
DTSTAMP:20260424T044212Z
SUMMARY:Improv 2: Monoscene (3/6)
DESCRIPTION:taught by Julie Brister\nat Online
DTSTART;TZID=America/Los_Angeles:20210127T100000
DTEND;TZID=America/Los_Angeles:20210127T120000
LOCATION:Online
END:VEVENT
BEGIN:VEVENT
UID:10f92868c5121852d8282d72f1e0ae9a
DTSTAMP:20260424T044212Z
SUMMARY:Improv 2: Monoscene (4/6)
DESCRIPTION:taught by Julie Brister\nat Online
DTSTART;TZID=America/Los_Angeles:20210203T100000
DTEND;TZID=America/Los_Angeles:20210203T120000
LOCATION:Online
END:VEVENT
BEGIN:VEVENT
UID:e16286d4c4d3448a9e8ca9a224f36c23
DTSTAMP:20260424T044212Z
SUMMARY:Improv 2: Monoscene (5/6)
DESCRIPTION:taught by Julie Brister\nat Online
DTSTART;TZID=America/Los_Angeles:20210210T100000
DTEND;TZID=America/Los_Angeles:20210210T120000
LOCATION:Online
END:VEVENT
BEGIN:VEVENT
UID:49c50c8cb86c3946efd26329ef0a1751
DTSTAMP:20260424T044212Z
SUMMARY:Improv 2: Monoscene (6/6)
DESCRIPTION:taught by Julie Brister\nat Online
DTSTART;TZID=America/Los_Angeles:20210217T110000
DTEND;TZID=America/Los_Angeles:20210217T130000
LOCATION:Online
END:VEVENT
BEGIN:VTIMEZONE
TZID:America/Los_Angeles
BEGIN:DAYLIGHT
DTSTART:20260401T000000
TZNAME:PDT
TZOFFSETTO:-0700
TZOFFSETFROM:-0700
END:DAYLIGHT
END:VTIMEZONE
END:VCALENDAR
