BEGIN:VCALENDAR
PRODID:-//eluceo/ical//2.0/EN
VERSION:2.0
CALSCALE:GREGORIAN
BEGIN:VEVENT
UID:f1f4b346f3d720c0f6b8d0a4a783ce60
DTSTAMP:20260424T044116Z
SUMMARY:Duo Class (1/5)
DESCRIPTION:taught by Alex Berg\nat Online
DTSTART;TZID=America/Los_Angeles:20210114T170000
DTEND;TZID=America/Los_Angeles:20210114T190000
LOCATION:Online
END:VEVENT
BEGIN:VEVENT
UID:27c181567efb3e668442c26dae5df3f0
DTSTAMP:20260424T044116Z
SUMMARY:Duo Class (2/5)
DESCRIPTION:taught by Alex Berg\nat Online
DTSTART;TZID=America/Los_Angeles:20210121T170000
DTEND;TZID=America/Los_Angeles:20210121T190000
LOCATION:Online
END:VEVENT
BEGIN:VEVENT
UID:adcb3ec7c5406b775da0a5f9fb7c403a
DTSTAMP:20260424T044116Z
SUMMARY:Duo Class (3/5)
DESCRIPTION:taught by Alex Berg\nat Online
DTSTART;TZID=America/Los_Angeles:20210128T170000
DTEND;TZID=America/Los_Angeles:20210128T190000
LOCATION:Online
END:VEVENT
BEGIN:VEVENT
UID:a1bacca8f97b708829e9093c99d98dcf
DTSTAMP:20260424T044116Z
SUMMARY:Duo Class (4/5)
DESCRIPTION:taught by Alex Berg\nat Online
DTSTART;TZID=America/Los_Angeles:20210204T170000
DTEND;TZID=America/Los_Angeles:20210204T190000
LOCATION:Online
END:VEVENT
BEGIN:VEVENT
UID:ab3192cb82f3bcfe1c8e70d354cd3570
DTSTAMP:20260424T044116Z
SUMMARY:Duo Class (5/5)
DESCRIPTION:taught by Alex Berg\nat Online
DTSTART;TZID=America/Los_Angeles:20210211T170000
DTEND;TZID=America/Los_Angeles:20210211T190000
LOCATION:Online
END:VEVENT
BEGIN:VTIMEZONE
TZID:America/Los_Angeles
BEGIN:DAYLIGHT
DTSTART:20260401T000000
TZNAME:PDT
TZOFFSETTO:-0700
TZOFFSETFROM:-0700
END:DAYLIGHT
END:VTIMEZONE
END:VCALENDAR
