BEGIN:VCALENDAR
PRODID:-//eluceo/ical//2.0/EN
VERSION:2.0
CALSCALE:GREGORIAN
BEGIN:VEVENT
UID:ed3127612e5a1d3be30463f67ac56696
DTSTAMP:20260424T031433Z
SUMMARY:Commercial Acting Class (1/4)
DESCRIPTION:taught by Casey Feigh\nat Online
DTSTART;TZID=America/Los_Angeles:20210227T120000
DTEND;TZID=America/Los_Angeles:20210227T140000
LOCATION:Online
END:VEVENT
BEGIN:VEVENT
UID:d0d11091d9b584c9832c8008461f383f
DTSTAMP:20260424T031433Z
SUMMARY:Commercial Acting Class (2/4)
DESCRIPTION:taught by Casey Feigh\nat Online
DTSTART;TZID=America/Los_Angeles:20210306T120000
DTEND;TZID=America/Los_Angeles:20210306T140000
LOCATION:Online
END:VEVENT
BEGIN:VEVENT
UID:d2ac89b5cc7880e5619930c1631da3ba
DTSTAMP:20260424T031433Z
SUMMARY:Commercial Acting Class (3/4)
DESCRIPTION:taught by Casey Feigh\nat Online
DTSTART;TZID=America/Los_Angeles:20210313T120000
DTEND;TZID=America/Los_Angeles:20210313T140000
LOCATION:Online
END:VEVENT
BEGIN:VEVENT
UID:fde1d0b065a9d82bb6cd1a841831e6a0
DTSTAMP:20260424T031433Z
SUMMARY:Commercial Acting Class (4/4)
DESCRIPTION:taught by Casey Feigh\nat Online
DTSTART;TZID=America/Los_Angeles:20210320T120000
DTEND;TZID=America/Los_Angeles:20210320T140000
LOCATION:Online
END:VEVENT
BEGIN:VTIMEZONE
TZID:America/Los_Angeles
BEGIN:DAYLIGHT
DTSTART:20260401T000000
TZNAME:PDT
TZOFFSETTO:-0700
TZOFFSETFROM:-0700
END:DAYLIGHT
END:VTIMEZONE
END:VCALENDAR
