BEGIN:VCALENDAR
PRODID:-//eluceo/ical//2.0/EN
VERSION:2.0
CALSCALE:GREGORIAN
BEGIN:VEVENT
UID:8d0374e37cbe89573d24844712f93d37
DTSTAMP:20260424T000832Z
SUMMARY:Improv 3: 8 Lines To A Perfect Harold (1/6)
DESCRIPTION:taught by Aman Adumer\nat Online
DTSTART;TZID=America/Los_Angeles:20210321T170000
DTEND;TZID=America/Los_Angeles:20210321T190000
LOCATION:Online
END:VEVENT
BEGIN:VEVENT
UID:33e4166374a2776c25a2b405f7d78ed7
DTSTAMP:20260424T000832Z
SUMMARY:Improv 3: 8 Lines To A Perfect Harold (2/6)
DESCRIPTION:taught by Aman Adumer\nat Online
DTSTART;TZID=America/Los_Angeles:20210328T170000
DTEND;TZID=America/Los_Angeles:20210328T190000
LOCATION:Online
END:VEVENT
BEGIN:VEVENT
UID:a875d0f1818ed367dcd47ece9299464a
DTSTAMP:20260424T000832Z
SUMMARY:Improv 3: 8 Lines To A Perfect Harold (3/6)
DESCRIPTION:taught by Aman Adumer\nat Online
DTSTART;TZID=America/Los_Angeles:20210404T170000
DTEND;TZID=America/Los_Angeles:20210404T190000
LOCATION:Online
END:VEVENT
BEGIN:VEVENT
UID:553236a9dde24d20e2f22158fe0c8bb6
DTSTAMP:20260424T000832Z
SUMMARY:Improv 3: 8 Lines To A Perfect Harold (4/6)
DESCRIPTION:taught by Aman Adumer\nat Online
DTSTART;TZID=America/Los_Angeles:20210411T170000
DTEND;TZID=America/Los_Angeles:20210411T190000
LOCATION:Online
END:VEVENT
BEGIN:VEVENT
UID:1d360c45a736ec0d3ad64ec34a950f87
DTSTAMP:20260424T000832Z
SUMMARY:Improv 3: 8 Lines To A Perfect Harold (5/6)
DESCRIPTION:taught by Aman Adumer\nat Online
DTSTART;TZID=America/Los_Angeles:20210418T170000
DTEND;TZID=America/Los_Angeles:20210418T190000
LOCATION:Online
END:VEVENT
BEGIN:VEVENT
UID:ce6567a66ca3336f307b74baeb4e94b1
DTSTAMP:20260424T000832Z
SUMMARY:Improv 3: 8 Lines To A Perfect Harold (6/6)
DESCRIPTION:taught by Aman Adumer\nat Online
DTSTART;TZID=America/Los_Angeles:20210425T170000
DTEND;TZID=America/Los_Angeles:20210425T190000
LOCATION:Online
END:VEVENT
BEGIN:VTIMEZONE
TZID:America/Los_Angeles
BEGIN:DAYLIGHT
DTSTART:20260401T000000
TZNAME:PDT
TZOFFSETTO:-0700
TZOFFSETFROM:-0700
END:DAYLIGHT
END:VTIMEZONE
END:VCALENDAR
