BEGIN:VCALENDAR
PRODID:-//eluceo/ical//2.0/EN
VERSION:2.0
CALSCALE:GREGORIAN
BEGIN:VEVENT
UID:4fdf4c609ca3298fd0372706a3c76db2
DTSTAMP:20260424T012610Z
SUMMARY:Initiations! (1/6)
DESCRIPTION:taught by Sarah Claspell\nat Online
DTSTART;TZID=America/Los_Angeles:20210308T170000
DTEND;TZID=America/Los_Angeles:20210308T190000
LOCATION:Online
END:VEVENT
BEGIN:VEVENT
UID:502209150d5c41e93f708f9317d6af19
DTSTAMP:20260424T012610Z
SUMMARY:Initiations! (2/6)
DESCRIPTION:taught by Sarah Claspell\nat Online
DTSTART;TZID=America/Los_Angeles:20210315T170000
DTEND;TZID=America/Los_Angeles:20210315T190000
LOCATION:Online
END:VEVENT
BEGIN:VEVENT
UID:5d144d98d73327c6cf2584c740f1da7e
DTSTAMP:20260424T012610Z
SUMMARY:Initiations! (3/6)
DESCRIPTION:taught by Sarah Claspell\nat Online
DTSTART;TZID=America/Los_Angeles:20210322T170000
DTEND;TZID=America/Los_Angeles:20210322T190000
LOCATION:Online
END:VEVENT
BEGIN:VEVENT
UID:b8ee1bbee3b41d3cf7490541de205518
DTSTAMP:20260424T012610Z
SUMMARY:Initiations! (4/6)
DESCRIPTION:taught by Sarah Claspell\nat Online
DTSTART;TZID=America/Los_Angeles:20210329T170000
DTEND;TZID=America/Los_Angeles:20210329T190000
LOCATION:Online
END:VEVENT
BEGIN:VEVENT
UID:72c61a5edb20238596814c4a0aa4f72d
DTSTAMP:20260424T012610Z
SUMMARY:Initiations! (5/6)
DESCRIPTION:taught by Sarah Claspell\nat Online
DTSTART;TZID=America/Los_Angeles:20210405T170000
DTEND;TZID=America/Los_Angeles:20210405T190000
LOCATION:Online
END:VEVENT
BEGIN:VEVENT
UID:d41941a0c517419dd600170d655cec3e
DTSTAMP:20260424T012610Z
SUMMARY:Initiations! (6/6)
DESCRIPTION:taught by Sarah Claspell\nat Online
DTSTART;TZID=America/Los_Angeles:20210412T170000
DTEND;TZID=America/Los_Angeles:20210412T180000
LOCATION:Online
END:VEVENT
BEGIN:VTIMEZONE
TZID:America/Los_Angeles
BEGIN:DAYLIGHT
DTSTART:20260401T000000
TZNAME:PDT
TZOFFSETTO:-0700
TZOFFSETFROM:-0700
END:DAYLIGHT
END:VTIMEZONE
END:VCALENDAR
