BEGIN:VCALENDAR
PRODID:-//eluceo/ical//2.0/EN
VERSION:2.0
CALSCALE:GREGORIAN
BEGIN:VEVENT
UID:769fc54da0fb8bab854ad859eb6fde5e
DTSTAMP:20260424T012620Z
SUMMARY:Improv 2: Monoscene (1/6)
DESCRIPTION:taught by Michelle Gilliam\nat Online
DTSTART;TZID=America/Los_Angeles:20210309T110000
DTEND;TZID=America/Los_Angeles:20210309T130000
LOCATION:Online
END:VEVENT
BEGIN:VEVENT
UID:77eefe3f1e8a978da1c82be8fd8a2559
DTSTAMP:20260424T012620Z
SUMMARY:Improv 2: Monoscene (2/6)
DESCRIPTION:taught by Michelle Gilliam\nat Online
DTSTART;TZID=America/Los_Angeles:20210316T110000
DTEND;TZID=America/Los_Angeles:20210316T130000
LOCATION:Online
END:VEVENT
BEGIN:VEVENT
UID:29209a1919a1d533e711045edaa3e54d
DTSTAMP:20260424T012620Z
SUMMARY:Improv 2: Monoscene (3/6)
DESCRIPTION:taught by Michelle Gilliam\nat Online
DTSTART;TZID=America/Los_Angeles:20210323T110000
DTEND;TZID=America/Los_Angeles:20210323T130000
LOCATION:Online
END:VEVENT
BEGIN:VEVENT
UID:4ce8cd346879b5152acbc6e27751f9b6
DTSTAMP:20260424T012620Z
SUMMARY:Improv 2: Monoscene (4/6)
DESCRIPTION:taught by Michelle Gilliam\nat Online
DTSTART;TZID=America/Los_Angeles:20210330T110000
DTEND;TZID=America/Los_Angeles:20210330T130000
LOCATION:Online
END:VEVENT
BEGIN:VEVENT
UID:40932c679a8b3aef14eee8a3e018941c
DTSTAMP:20260424T012620Z
SUMMARY:Improv 2: Monoscene (5/6)
DESCRIPTION:taught by Michelle Gilliam\nat Online
DTSTART;TZID=America/Los_Angeles:20210406T110000
DTEND;TZID=America/Los_Angeles:20210406T130000
LOCATION:Online
END:VEVENT
BEGIN:VEVENT
UID:6c6203090d4506a857f026e51b85f8fd
DTSTAMP:20260424T012620Z
SUMMARY:Improv 2: Monoscene (6/6)
DESCRIPTION:taught by Michelle Gilliam\nat Online
DTSTART;TZID=America/Los_Angeles:20210413T110000
DTEND;TZID=America/Los_Angeles:20210413T120000
LOCATION:Online
END:VEVENT
BEGIN:VTIMEZONE
TZID:America/Los_Angeles
BEGIN:DAYLIGHT
DTSTART:20260401T000000
TZNAME:PDT
TZOFFSETTO:-0700
TZOFFSETFROM:-0700
END:DAYLIGHT
END:VTIMEZONE
END:VCALENDAR
