BEGIN:VCALENDAR
PRODID:-//eluceo/ical//2.0/EN
VERSION:2.0
CALSCALE:GREGORIAN
BEGIN:VEVENT
UID:5cea32cddfc14043d56e79dd640ed571
DTSTAMP:20260424T012718Z
SUMMARY:La Ronde (1/6)
DESCRIPTION:taught by Alex Berg\nat Online
DTSTART;TZID=America/Los_Angeles:20210309T110000
DTEND;TZID=America/Los_Angeles:20210309T130000
LOCATION:Online
END:VEVENT
BEGIN:VEVENT
UID:f7e7104c8fa4cf00672aa2fcd79f9a9d
DTSTAMP:20260424T012718Z
SUMMARY:La Ronde (2/6)
DESCRIPTION:taught by Alex Berg\nat Online
DTSTART;TZID=America/Los_Angeles:20210316T110000
DTEND;TZID=America/Los_Angeles:20210316T130000
LOCATION:Online
END:VEVENT
BEGIN:VEVENT
UID:64075dcec0dfedcc8bfa26e5f4c52cb2
DTSTAMP:20260424T012718Z
SUMMARY:La Ronde (3/6)
DESCRIPTION:taught by Alex Berg\nat Online
DTSTART;TZID=America/Los_Angeles:20210323T110000
DTEND;TZID=America/Los_Angeles:20210323T130000
LOCATION:Online
END:VEVENT
BEGIN:VEVENT
UID:902552b879cbd64b99d1756156011af9
DTSTAMP:20260424T012718Z
SUMMARY:La Ronde (4/6)
DESCRIPTION:taught by Alex Berg\nat Online
DTSTART;TZID=America/Los_Angeles:20210330T110000
DTEND;TZID=America/Los_Angeles:20210330T130000
LOCATION:Online
END:VEVENT
BEGIN:VEVENT
UID:1c1069395fdc90f9e5e2f0cebf871f78
DTSTAMP:20260424T012718Z
SUMMARY:La Ronde (5/6)
DESCRIPTION:taught by Alex Berg\nat Online
DTSTART;TZID=America/Los_Angeles:20210406T110000
DTEND;TZID=America/Los_Angeles:20210406T130000
LOCATION:Online
END:VEVENT
BEGIN:VEVENT
UID:432e47bb7a6b2995a03c1b25dc284586
DTSTAMP:20260424T012718Z
SUMMARY:La Ronde (6/6)
DESCRIPTION:taught by Alex Berg\nat Online
DTSTART;TZID=America/Los_Angeles:20210413T110000
DTEND;TZID=America/Los_Angeles:20210413T130000
LOCATION:Online
END:VEVENT
BEGIN:VTIMEZONE
TZID:America/Los_Angeles
BEGIN:DAYLIGHT
DTSTART:20260401T000000
TZNAME:PDT
TZOFFSETTO:-0700
TZOFFSETFROM:-0700
END:DAYLIGHT
END:VTIMEZONE
END:VCALENDAR
