BEGIN:VCALENDAR
PRODID:-//eluceo/ical//2.0/EN
VERSION:2.0
CALSCALE:GREGORIAN
BEGIN:VEVENT
UID:ade5e7da9789cb6e3b07161d282b7261
DTSTAMP:20260424T012646Z
SUMMARY:The Improvised Play (1/6)
DESCRIPTION:taught by Brandon Gardner\nat Online
DTSTART;TZID=America/Los_Angeles:20210309T150000
DTEND;TZID=America/Los_Angeles:20210309T170000
LOCATION:Online
END:VEVENT
BEGIN:VEVENT
UID:17981add0a9464a8e8a19beb08bfa056
DTSTAMP:20260424T012646Z
SUMMARY:The Improvised Play (2/6)
DESCRIPTION:taught by Brandon Gardner\nat Online
DTSTART;TZID=America/Los_Angeles:20210316T150000
DTEND;TZID=America/Los_Angeles:20210316T170000
LOCATION:Online
END:VEVENT
BEGIN:VEVENT
UID:6cd63115b1c60f260a1dc2c64f3bf0b6
DTSTAMP:20260424T012646Z
SUMMARY:The Improvised Play (3/6)
DESCRIPTION:taught by Brandon Gardner\nat Online
DTSTART;TZID=America/Los_Angeles:20210323T150000
DTEND;TZID=America/Los_Angeles:20210323T170000
LOCATION:Online
END:VEVENT
BEGIN:VEVENT
UID:5ec9659c9accb86faa0ce6e46a20fbf6
DTSTAMP:20260424T012646Z
SUMMARY:The Improvised Play (4/6)
DESCRIPTION:taught by Brandon Gardner\nat Online
DTSTART;TZID=America/Los_Angeles:20210330T150000
DTEND;TZID=America/Los_Angeles:20210330T170000
LOCATION:Online
END:VEVENT
BEGIN:VEVENT
UID:712df8b0ff0b102cdee7dcdc0895316f
DTSTAMP:20260424T012646Z
SUMMARY:The Improvised Play (5/6)
DESCRIPTION:taught by Brandon Gardner\nat Online
DTSTART;TZID=America/Los_Angeles:20210406T150000
DTEND;TZID=America/Los_Angeles:20210406T170000
LOCATION:Online
END:VEVENT
BEGIN:VEVENT
UID:ebc26fb36d4aca5232025d4a1e334e6b
DTSTAMP:20260424T012646Z
SUMMARY:The Improvised Play (6/6)
DESCRIPTION:taught by Brandon Gardner\nat Online
DTSTART;TZID=America/Los_Angeles:20210413T150000
DTEND;TZID=America/Los_Angeles:20210413T160000
LOCATION:Online
END:VEVENT
BEGIN:VTIMEZONE
TZID:America/Los_Angeles
BEGIN:DAYLIGHT
DTSTART:20260401T000000
TZNAME:PDT
TZOFFSETTO:-0700
TZOFFSETFROM:-0700
END:DAYLIGHT
END:VTIMEZONE
END:VCALENDAR
