BEGIN:VCALENDAR
PRODID:-//eluceo/ical//2.0/EN
VERSION:2.0
CALSCALE:GREGORIAN
BEGIN:VEVENT
UID:347dfccace96c1e0a7dda642c416c85d
DTSTAMP:20260424T012620Z
SUMMARY:Improv 1: Monologue Show (1/6)
DESCRIPTION:taught by Will Hines\nat Online
DTSTART;TZID=America/Los_Angeles:20210309T170000
DTEND;TZID=America/Los_Angeles:20210309T190000
LOCATION:Online
END:VEVENT
BEGIN:VEVENT
UID:c2cb62889306ffb4af3592aa835c29fb
DTSTAMP:20260424T012620Z
SUMMARY:Improv 1: Monologue Show (2/6)
DESCRIPTION:taught by Will Hines\nat Online
DTSTART;TZID=America/Los_Angeles:20210316T170000
DTEND;TZID=America/Los_Angeles:20210316T190000
LOCATION:Online
END:VEVENT
BEGIN:VEVENT
UID:6dc70e242e17a273cf80d6c1023fc364
DTSTAMP:20260424T012620Z
SUMMARY:Improv 1: Monologue Show (3/6)
DESCRIPTION:taught by Will Hines\nat Online
DTSTART;TZID=America/Los_Angeles:20210323T170000
DTEND;TZID=America/Los_Angeles:20210323T190000
LOCATION:Online
END:VEVENT
BEGIN:VEVENT
UID:230c6194f1c1502ad871b37b212715cb
DTSTAMP:20260424T012620Z
SUMMARY:Improv 1: Monologue Show (4/6)
DESCRIPTION:taught by Will Hines\nat Online
DTSTART;TZID=America/Los_Angeles:20210330T170000
DTEND;TZID=America/Los_Angeles:20210330T190000
LOCATION:Online
END:VEVENT
BEGIN:VEVENT
UID:32e1937c49ce6504d1baec48c41ba994
DTSTAMP:20260424T012620Z
SUMMARY:Improv 1: Monologue Show (5/6)
DESCRIPTION:taught by Will Hines\nat Online
DTSTART;TZID=America/Los_Angeles:20210406T170000
DTEND;TZID=America/Los_Angeles:20210406T190000
LOCATION:Online
END:VEVENT
BEGIN:VEVENT
UID:6f36dd27cf33f939f07ea09723f8207c
DTSTAMP:20260424T012620Z
SUMMARY:Improv 1: Monologue Show (6/6)
DESCRIPTION:taught by Will Hines\nat Online
DTSTART;TZID=America/Los_Angeles:20210413T170000
DTEND;TZID=America/Los_Angeles:20210413T180000
LOCATION:Online
END:VEVENT
BEGIN:VTIMEZONE
TZID:America/Los_Angeles
BEGIN:DAYLIGHT
DTSTART:20260401T000000
TZNAME:PDT
TZOFFSETTO:-0700
TZOFFSETFROM:-0700
END:DAYLIGHT
END:VTIMEZONE
END:VCALENDAR
