BEGIN:VCALENDAR
PRODID:-//eluceo/ical//2.0/EN
VERSION:2.0
CALSCALE:GREGORIAN
BEGIN:VEVENT
UID:36593697bed55b17d66f9f22f536d60f
DTSTAMP:20260424T013216Z
SUMMARY:Duo Class (1/5)
DESCRIPTION:taught by Alex Berg\nat Online
DTSTART;TZID=America/Los_Angeles:20210309T170000
DTEND;TZID=America/Los_Angeles:20210309T190000
LOCATION:Online
END:VEVENT
BEGIN:VEVENT
UID:258cf05ad41d81b95bdb8f06190240d7
DTSTAMP:20260424T013216Z
SUMMARY:Duo Class (2/5)
DESCRIPTION:taught by Alex Berg\nat Online
DTSTART;TZID=America/Los_Angeles:20210316T170000
DTEND;TZID=America/Los_Angeles:20210316T190000
LOCATION:Online
END:VEVENT
BEGIN:VEVENT
UID:530757e43fb3b7f53d1d8e0118b9c27b
DTSTAMP:20260424T013216Z
SUMMARY:Duo Class (3/5)
DESCRIPTION:taught by Alex Berg\nat Online
DTSTART;TZID=America/Los_Angeles:20210323T170000
DTEND;TZID=America/Los_Angeles:20210323T190000
LOCATION:Online
END:VEVENT
BEGIN:VEVENT
UID:fa0809f62b891fd1516a048183df0be7
DTSTAMP:20260424T013216Z
SUMMARY:Duo Class (4/5)
DESCRIPTION:taught by Alex Berg\nat Online
DTSTART;TZID=America/Los_Angeles:20210330T170000
DTEND;TZID=America/Los_Angeles:20210330T190000
LOCATION:Online
END:VEVENT
BEGIN:VEVENT
UID:36c88095afd65bb31c430c150cb9018d
DTSTAMP:20260424T013216Z
SUMMARY:Duo Class (5/5)
DESCRIPTION:taught by Alex Berg\nat Online
DTSTART;TZID=America/Los_Angeles:20210406T170000
DTEND;TZID=America/Los_Angeles:20210406T190000
LOCATION:Online
END:VEVENT
BEGIN:VTIMEZONE
TZID:America/Los_Angeles
BEGIN:DAYLIGHT
DTSTART:20260401T000000
TZNAME:PDT
TZOFFSETTO:-0700
TZOFFSETFROM:-0700
END:DAYLIGHT
END:VTIMEZONE
END:VCALENDAR
