BEGIN:VCALENDAR
PRODID:-//eluceo/ical//2.0/EN
VERSION:2.0
CALSCALE:GREGORIAN
BEGIN:VEVENT
UID:a15453bff31413d02c824d5f6dc639d8
DTSTAMP:20260424T012626Z
SUMMARY:Improv 4: Headless Harold (1/6)
DESCRIPTION:taught by Will Hines\nat Online
DTSTART;TZID=America/Los_Angeles:20210310T110000
DTEND;TZID=America/Los_Angeles:20210310T130000
LOCATION:Online
END:VEVENT
BEGIN:VEVENT
UID:57f4254c1911df65345d6b7e0e75c115
DTSTAMP:20260424T012626Z
SUMMARY:Improv 4: Headless Harold (2/6)
DESCRIPTION:taught by Will Hines\nat Online
DTSTART;TZID=America/Los_Angeles:20210317T110000
DTEND;TZID=America/Los_Angeles:20210317T130000
LOCATION:Online
END:VEVENT
BEGIN:VEVENT
UID:df79cb51e1b1108738edd56d7cb9b61b
DTSTAMP:20260424T012626Z
SUMMARY:Improv 4: Headless Harold (3/6)
DESCRIPTION:taught by Will Hines\nat Online
DTSTART;TZID=America/Los_Angeles:20210324T110000
DTEND;TZID=America/Los_Angeles:20210324T130000
LOCATION:Online
END:VEVENT
BEGIN:VEVENT
UID:236a187bcdde9ba89e81017b11ae7902
DTSTAMP:20260424T012626Z
SUMMARY:Improv 4: Headless Harold (4/6)
DESCRIPTION:taught by Will Hines\nat Online
DTSTART;TZID=America/Los_Angeles:20210331T110000
DTEND;TZID=America/Los_Angeles:20210331T130000
LOCATION:Online
END:VEVENT
BEGIN:VEVENT
UID:2b12931359e29ac1ad3f6ff88f638fb7
DTSTAMP:20260424T012626Z
SUMMARY:Improv 4: Headless Harold (5/6)
DESCRIPTION:taught by Will Hines\nat Online
DTSTART;TZID=America/Los_Angeles:20210407T110000
DTEND;TZID=America/Los_Angeles:20210407T130000
LOCATION:Online
END:VEVENT
BEGIN:VEVENT
UID:9d4fb30fb9bf5783f4099a7d50ba85ae
DTSTAMP:20260424T012626Z
SUMMARY:Improv 4: Headless Harold (6/6)
DESCRIPTION:taught by Will Hines\nat Online
DTSTART;TZID=America/Los_Angeles:20210414T110000
DTEND;TZID=America/Los_Angeles:20210414T120000
LOCATION:Online
END:VEVENT
BEGIN:VTIMEZONE
TZID:America/Los_Angeles
BEGIN:DAYLIGHT
DTSTART:20260401T000000
TZNAME:PDT
TZOFFSETTO:-0700
TZOFFSETFROM:-0700
END:DAYLIGHT
END:VTIMEZONE
END:VCALENDAR
