BEGIN:VCALENDAR
PRODID:-//eluceo/ical//2.0/EN
VERSION:2.0
CALSCALE:GREGORIAN
BEGIN:VEVENT
UID:c95532ede6f5677e58cbfedca829d90c
DTSTAMP:20260424T013105Z
SUMMARY:Improv 4: Headless Harold (1/6)
DESCRIPTION:taught by Will Hines\nat Online
DTSTART;TZID=America/Los_Angeles:20210310T170000
DTEND;TZID=America/Los_Angeles:20210310T190000
LOCATION:Online
END:VEVENT
BEGIN:VEVENT
UID:33f8fad3c01d65e16e0ff9489fb2a83d
DTSTAMP:20260424T013105Z
SUMMARY:Improv 4: Headless Harold (2/6)
DESCRIPTION:taught by Will Hines\nat Online
DTSTART;TZID=America/Los_Angeles:20210317T170000
DTEND;TZID=America/Los_Angeles:20210317T190000
LOCATION:Online
END:VEVENT
BEGIN:VEVENT
UID:17dab312033473e02296e930fc27e432
DTSTAMP:20260424T013105Z
SUMMARY:Improv 4: Headless Harold (3/6)
DESCRIPTION:taught by Will Hines\nat Online
DTSTART;TZID=America/Los_Angeles:20210324T170000
DTEND;TZID=America/Los_Angeles:20210324T190000
LOCATION:Online
END:VEVENT
BEGIN:VEVENT
UID:e016d0e15e7a81e75e6ab6bab50e0a3c
DTSTAMP:20260424T013105Z
SUMMARY:Improv 4: Headless Harold (4/6)
DESCRIPTION:taught by Will Hines\nat Online
DTSTART;TZID=America/Los_Angeles:20210331T170000
DTEND;TZID=America/Los_Angeles:20210331T190000
LOCATION:Online
END:VEVENT
BEGIN:VEVENT
UID:31142e807e845a592674107b6169ca0a
DTSTAMP:20260424T013105Z
SUMMARY:Improv 4: Headless Harold (5/6)
DESCRIPTION:taught by Will Hines\nat Online
DTSTART;TZID=America/Los_Angeles:20210407T170000
DTEND;TZID=America/Los_Angeles:20210407T190000
LOCATION:Online
END:VEVENT
BEGIN:VEVENT
UID:c1fc8a6b8c379cd73f9549bd71aba5a6
DTSTAMP:20260424T013105Z
SUMMARY:Improv 4: Headless Harold (6/6)
DESCRIPTION:taught by Will Hines\nat Online
DTSTART;TZID=America/Los_Angeles:20210414T170000
DTEND;TZID=America/Los_Angeles:20210414T180000
LOCATION:Online
END:VEVENT
BEGIN:VTIMEZONE
TZID:America/Los_Angeles
BEGIN:DAYLIGHT
DTSTART:20260401T000000
TZNAME:PDT
TZOFFSETTO:-0700
TZOFFSETFROM:-0700
END:DAYLIGHT
END:VTIMEZONE
END:VCALENDAR
