BEGIN:VCALENDAR
PRODID:-//eluceo/ical//2.0/EN
VERSION:2.0
CALSCALE:GREGORIAN
BEGIN:VEVENT
UID:c78cf00b0511d0769f3b2c0d42648195
DTSTAMP:20260424T012626Z
SUMMARY:Improv 3: The Harold (1/6)
DESCRIPTION:taught by Julie Brister\nat Online
DTSTART;TZID=America/Los_Angeles:20210311T110000
DTEND;TZID=America/Los_Angeles:20210311T130000
LOCATION:Online
END:VEVENT
BEGIN:VEVENT
UID:2cfd29e49b2381157335a075f898930c
DTSTAMP:20260424T012626Z
SUMMARY:Improv 3: The Harold (2/6)
DESCRIPTION:taught by Julie Brister\nat Online
DTSTART;TZID=America/Los_Angeles:20210318T110000
DTEND;TZID=America/Los_Angeles:20210318T130000
LOCATION:Online
END:VEVENT
BEGIN:VEVENT
UID:529f526393fdf3d2a6fe97f62727ac93
DTSTAMP:20260424T012626Z
SUMMARY:Improv 3: The Harold (3/6)
DESCRIPTION:taught by Julie Brister\nat Online
DTSTART;TZID=America/Los_Angeles:20210325T110000
DTEND;TZID=America/Los_Angeles:20210325T130000
LOCATION:Online
END:VEVENT
BEGIN:VEVENT
UID:e0f609f249962d3b7519754caefc1441
DTSTAMP:20260424T012626Z
SUMMARY:Improv 3: The Harold (4/6)
DESCRIPTION:taught by Julie Brister\nat Online
DTSTART;TZID=America/Los_Angeles:20210401T110000
DTEND;TZID=America/Los_Angeles:20210401T130000
LOCATION:Online
END:VEVENT
BEGIN:VEVENT
UID:671739648af8e9d759701e53ebd2d6d3
DTSTAMP:20260424T012626Z
SUMMARY:Improv 3: The Harold (5/6)
DESCRIPTION:taught by Julie Brister\nat Online
DTSTART;TZID=America/Los_Angeles:20210408T110000
DTEND;TZID=America/Los_Angeles:20210408T130000
LOCATION:Online
END:VEVENT
BEGIN:VEVENT
UID:b5d8856635c81cb24088b0e75d83d4ba
DTSTAMP:20260424T012626Z
SUMMARY:Improv 3: The Harold (6/6)
DESCRIPTION:taught by Julie Brister\nat Online
DTSTART;TZID=America/Los_Angeles:20210415T110000
DTEND;TZID=America/Los_Angeles:20210415T120000
LOCATION:Online
END:VEVENT
BEGIN:VTIMEZONE
TZID:America/Los_Angeles
BEGIN:DAYLIGHT
DTSTART:20260401T000000
TZNAME:PDT
TZOFFSETTO:-0700
TZOFFSETFROM:-0700
END:DAYLIGHT
END:VTIMEZONE
END:VCALENDAR
