BEGIN:VCALENDAR
PRODID:-//eluceo/ical//2.0/EN
VERSION:2.0
CALSCALE:GREGORIAN
BEGIN:VEVENT
UID:22daefbc1fd87d69a0c15c776ba6a473
DTSTAMP:20260424T013222Z
SUMMARY:Improv 2: Monoscene (1/6)
DESCRIPTION:taught by Julie Brister\nat Online
DTSTART;TZID=America/Los_Angeles:20210311T170000
DTEND;TZID=America/Los_Angeles:20210311T190000
LOCATION:Online
END:VEVENT
BEGIN:VEVENT
UID:fe630e52474b4af4e5f6cbeef6d476db
DTSTAMP:20260424T013222Z
SUMMARY:Improv 2: Monoscene (2/6)
DESCRIPTION:taught by Julie Brister\nat Online
DTSTART;TZID=America/Los_Angeles:20210318T170000
DTEND;TZID=America/Los_Angeles:20210318T190000
LOCATION:Online
END:VEVENT
BEGIN:VEVENT
UID:2a3caf4b32dbe21e5d88095aa8e2220f
DTSTAMP:20260424T013222Z
SUMMARY:Improv 2: Monoscene (3/6)
DESCRIPTION:taught by Julie Brister\nat Online
DTSTART;TZID=America/Los_Angeles:20210325T170000
DTEND;TZID=America/Los_Angeles:20210325T190000
LOCATION:Online
END:VEVENT
BEGIN:VEVENT
UID:6daa2571a268f80717cad2645441c842
DTSTAMP:20260424T013222Z
SUMMARY:Improv 2: Monoscene (4/6)
DESCRIPTION:taught by Julie Brister\nat Online
DTSTART;TZID=America/Los_Angeles:20210401T170000
DTEND;TZID=America/Los_Angeles:20210401T190000
LOCATION:Online
END:VEVENT
BEGIN:VEVENT
UID:ad615bd579f3e6c792335808f9e55df0
DTSTAMP:20260424T013222Z
SUMMARY:Improv 2: Monoscene (5/6)
DESCRIPTION:taught by Julie Brister\nat Online
DTSTART;TZID=America/Los_Angeles:20210408T170000
DTEND;TZID=America/Los_Angeles:20210408T190000
LOCATION:Online
END:VEVENT
BEGIN:VEVENT
UID:2f3f64971742d847cbb1a9081bf6abaa
DTSTAMP:20260424T013222Z
SUMMARY:Improv 2: Monoscene (6/6)
DESCRIPTION:taught by Julie Brister\nat Online
DTSTART;TZID=America/Los_Angeles:20210415T170000
DTEND;TZID=America/Los_Angeles:20210415T180000
LOCATION:Online
END:VEVENT
BEGIN:VTIMEZONE
TZID:America/Los_Angeles
BEGIN:DAYLIGHT
DTSTART:20260401T000000
TZNAME:PDT
TZOFFSETTO:-0700
TZOFFSETFROM:-0700
END:DAYLIGHT
END:VTIMEZONE
END:VCALENDAR
