BEGIN:VCALENDAR
PRODID:-//eluceo/ical//2.0/EN
VERSION:2.0
CALSCALE:GREGORIAN
BEGIN:VEVENT
UID:2d72e79e6da1d8f4afebefda726cc844
DTSTAMP:20260424T013208Z
SUMMARY:Improv 2: Pretty Flower (1/6)
DESCRIPTION:taught by Aman Adumer\nat Online
DTSTART;TZID=America/Los_Angeles:20210313T110000
DTEND;TZID=America/Los_Angeles:20210313T130000
LOCATION:Online
END:VEVENT
BEGIN:VEVENT
UID:03616768c873ba0ca38b4f89e47f516f
DTSTAMP:20260424T013208Z
SUMMARY:Improv 2: Pretty Flower (2/6)
DESCRIPTION:taught by Aman Adumer\nat Online
DTSTART;TZID=America/Los_Angeles:20210320T110000
DTEND;TZID=America/Los_Angeles:20210320T130000
LOCATION:Online
END:VEVENT
BEGIN:VEVENT
UID:6aae2b31603d2c81ebbba975cb55faa2
DTSTAMP:20260424T013208Z
SUMMARY:Improv 2: Pretty Flower (3/6)
DESCRIPTION:taught by Aman Adumer\nat Online
DTSTART;TZID=America/Los_Angeles:20210327T110000
DTEND;TZID=America/Los_Angeles:20210327T130000
LOCATION:Online
END:VEVENT
BEGIN:VEVENT
UID:217dececbcefc32152107099c5a818bb
DTSTAMP:20260424T013208Z
SUMMARY:Improv 2: Pretty Flower (4/6)
DESCRIPTION:taught by Aman Adumer\nat Online
DTSTART;TZID=America/Los_Angeles:20210403T110000
DTEND;TZID=America/Los_Angeles:20210403T130000
LOCATION:Online
END:VEVENT
BEGIN:VEVENT
UID:563101490314a3e983a2d79f66af2e23
DTSTAMP:20260424T013208Z
SUMMARY:Improv 2: Pretty Flower (5/6)
DESCRIPTION:taught by Aman Adumer\nat Online
DTSTART;TZID=America/Los_Angeles:20210410T110000
DTEND;TZID=America/Los_Angeles:20210410T130000
LOCATION:Online
END:VEVENT
BEGIN:VEVENT
UID:def9502ea41d08caa09f9605a8cc2e8d
DTSTAMP:20260424T013208Z
SUMMARY:Improv 2: Pretty Flower (6/6)
DESCRIPTION:taught by Aman Adumer\nat Online
DTSTART;TZID=America/Los_Angeles:20210417T110000
DTEND;TZID=America/Los_Angeles:20210417T120000
LOCATION:Online
END:VEVENT
BEGIN:VTIMEZONE
TZID:America/Los_Angeles
BEGIN:DAYLIGHT
DTSTART:20260401T000000
TZNAME:PDT
TZOFFSETTO:-0700
TZOFFSETFROM:-0700
END:DAYLIGHT
END:VTIMEZONE
END:VCALENDAR
