BEGIN:VCALENDAR
PRODID:-//eluceo/ical//2.0/EN
VERSION:2.0
CALSCALE:GREGORIAN
BEGIN:VEVENT
UID:5a2dd251015dbec124f361422c521dda
DTSTAMP:20260424T013105Z
SUMMARY:Commercial Acting Class (1/4)
DESCRIPTION:taught by Casey Feigh\nat Online
DTSTART;TZID=America/Los_Angeles:20210309T170000
DTEND;TZID=America/Los_Angeles:20210309T190000
LOCATION:Online
END:VEVENT
BEGIN:VEVENT
UID:1be22628e82101abd92471489fcf42da
DTSTAMP:20260424T013105Z
SUMMARY:Commercial Acting Class (2/4)
DESCRIPTION:taught by Casey Feigh\nat Online
DTSTART;TZID=America/Los_Angeles:20210316T170000
DTEND;TZID=America/Los_Angeles:20210316T190000
LOCATION:Online
END:VEVENT
BEGIN:VEVENT
UID:463e7b613754e74a2cdfb896a4ad8004
DTSTAMP:20260424T013105Z
SUMMARY:Commercial Acting Class (3/4)
DESCRIPTION:taught by Casey Feigh\nat Online
DTSTART;TZID=America/Los_Angeles:20210323T170000
DTEND;TZID=America/Los_Angeles:20210323T190000
LOCATION:Online
END:VEVENT
BEGIN:VEVENT
UID:815380f85ed77fb318d59dd7540713ad
DTSTAMP:20260424T013105Z
SUMMARY:Commercial Acting Class (4/4)
DESCRIPTION:taught by Casey Feigh\nat Online
DTSTART;TZID=America/Los_Angeles:20210330T170000
DTEND;TZID=America/Los_Angeles:20210330T190000
LOCATION:Online
END:VEVENT
BEGIN:VTIMEZONE
TZID:America/Los_Angeles
BEGIN:DAYLIGHT
DTSTART:20260401T000000
TZNAME:PDT
TZOFFSETTO:-0700
TZOFFSETFROM:-0700
END:DAYLIGHT
END:VTIMEZONE
END:VCALENDAR
