BEGIN:VCALENDAR
PRODID:-//eluceo/ical//2.0/EN
VERSION:2.0
CALSCALE:GREGORIAN
BEGIN:VEVENT
UID:db8061e1ce0d6014def53e09b6d4209c
DTSTAMP:20260424T013217Z
SUMMARY:The Glen (1/6)
DESCRIPTION:taught by Julie Brister and Jason Perez\nat Online
DTSTART;TZID=America/Los_Angeles:20210324T110000
DTEND;TZID=America/Los_Angeles:20210324T130000
LOCATION:Online
END:VEVENT
BEGIN:VEVENT
UID:ad2b424dd9c7ca7327dcf4ac045d2823
DTSTAMP:20260424T013217Z
SUMMARY:The Glen (2/6)
DESCRIPTION:taught by Julie Brister and Jason Perez\nat Online
DTSTART;TZID=America/Los_Angeles:20210331T110000
DTEND;TZID=America/Los_Angeles:20210331T130000
LOCATION:Online
END:VEVENT
BEGIN:VEVENT
UID:c79a0251b46eeeb4fe588a6117088b9c
DTSTAMP:20260424T013217Z
SUMMARY:The Glen (3/6)
DESCRIPTION:taught by Julie Brister and Jason Perez\nat Online
DTSTART;TZID=America/Los_Angeles:20210407T110000
DTEND;TZID=America/Los_Angeles:20210407T130000
LOCATION:Online
END:VEVENT
BEGIN:VEVENT
UID:8ce382c10c9462ee8f7dedd89bf287ec
DTSTAMP:20260424T013217Z
SUMMARY:The Glen (4/6)
DESCRIPTION:taught by Julie Brister and Jason Perez\nat Online
DTSTART;TZID=America/Los_Angeles:20210414T110000
DTEND;TZID=America/Los_Angeles:20210414T130000
LOCATION:Online
END:VEVENT
BEGIN:VEVENT
UID:1c656c42a6a25055747ac232a4da4fbd
DTSTAMP:20260424T013217Z
SUMMARY:The Glen (5/6)
DESCRIPTION:taught by Julie Brister and Jason Perez\nat Online
DTSTART;TZID=America/Los_Angeles:20210421T110000
DTEND;TZID=America/Los_Angeles:20210421T130000
LOCATION:Online
END:VEVENT
BEGIN:VEVENT
UID:498b2433ca1c68807b9c37cfe5eff794
DTSTAMP:20260424T013217Z
SUMMARY:The Glen (6/6)
DESCRIPTION:taught by Julie Brister and Jason Perez\nat Online
DTSTART;TZID=America/Los_Angeles:20210423T120000
DTEND;TZID=America/Los_Angeles:20210423T130000
LOCATION:Online
END:VEVENT
BEGIN:VTIMEZONE
TZID:America/Los_Angeles
BEGIN:DAYLIGHT
DTSTART:20260401T000000
TZNAME:PDT
TZOFFSETTO:-0700
TZOFFSETFROM:-0700
END:DAYLIGHT
END:VTIMEZONE
END:VCALENDAR
