BEGIN:VCALENDAR
PRODID:-//eluceo/ical//2.0/EN
VERSION:2.0
CALSCALE:GREGORIAN
BEGIN:VEVENT
UID:0acf9a39a8f51ce1bf205e5c31d2d37c
DTSTAMP:20260423T223550Z
SUMMARY:Initiations! (1/6)
DESCRIPTION:taught by Sarah Claspell\nat Online
DTSTART;TZID=America/Los_Angeles:20210503T170000
DTEND;TZID=America/Los_Angeles:20210503T190000
LOCATION:Online
END:VEVENT
BEGIN:VEVENT
UID:0c8161e77ea779f402166fa72779e77b
DTSTAMP:20260423T223550Z
SUMMARY:Initiations! (2/6)
DESCRIPTION:taught by Sarah Claspell\nat Online
DTSTART;TZID=America/Los_Angeles:20210510T170000
DTEND;TZID=America/Los_Angeles:20210510T190000
LOCATION:Online
END:VEVENT
BEGIN:VEVENT
UID:8353aeee305d15472be932ccf58b0c98
DTSTAMP:20260423T223550Z
SUMMARY:Initiations! (3/6)
DESCRIPTION:taught by Sarah Claspell\nat Online
DTSTART;TZID=America/Los_Angeles:20210517T170000
DTEND;TZID=America/Los_Angeles:20210517T190000
LOCATION:Online
END:VEVENT
BEGIN:VEVENT
UID:8f160ae77c2753e9a41247e227e2e612
DTSTAMP:20260423T223550Z
SUMMARY:Initiations! (4/6)
DESCRIPTION:taught by Sarah Claspell\nat Online
DTSTART;TZID=America/Los_Angeles:20210524T170000
DTEND;TZID=America/Los_Angeles:20210524T190000
LOCATION:Online
END:VEVENT
BEGIN:VEVENT
UID:ef99104c493a9ad9b09d18c0c86e0537
DTSTAMP:20260423T223550Z
SUMMARY:Initiations! (5/6)
DESCRIPTION:taught by Sarah Claspell\nat Online
DTSTART;TZID=America/Los_Angeles:20210531T170000
DTEND;TZID=America/Los_Angeles:20210531T190000
LOCATION:Online
END:VEVENT
BEGIN:VEVENT
UID:9290418e2e5b1a8e2107f0ff8db8e654
DTSTAMP:20260423T223550Z
SUMMARY:Initiations! (6/6)
DESCRIPTION:taught by Sarah Claspell\nat Online
DTSTART;TZID=America/Los_Angeles:20210607T163000
DTEND;TZID=America/Los_Angeles:20210607T173000
LOCATION:Online
END:VEVENT
BEGIN:VTIMEZONE
TZID:America/Los_Angeles
BEGIN:DAYLIGHT
DTSTART:20260401T000000
TZNAME:PDT
TZOFFSETTO:-0700
TZOFFSETFROM:-0700
END:DAYLIGHT
END:VTIMEZONE
END:VCALENDAR
