BEGIN:VCALENDAR
PRODID:-//eluceo/ical//2.0/EN
VERSION:2.0
CALSCALE:GREGORIAN
BEGIN:VEVENT
UID:27832af81ddb062942d0b42f2c32e701
DTSTAMP:20260423T223550Z
SUMMARY:Improv 2: Monoscene (1/6)
DESCRIPTION:taught by Michelle Gilliam\nat Online
DTSTART;TZID=America/Los_Angeles:20210504T110000
DTEND;TZID=America/Los_Angeles:20210504T130000
LOCATION:Online
END:VEVENT
BEGIN:VEVENT
UID:4d4f0de249d969f55a85c9bc79212a64
DTSTAMP:20260423T223550Z
SUMMARY:Improv 2: Monoscene (2/6)
DESCRIPTION:taught by Michelle Gilliam\nat Online
DTSTART;TZID=America/Los_Angeles:20210511T110000
DTEND;TZID=America/Los_Angeles:20210511T130000
LOCATION:Online
END:VEVENT
BEGIN:VEVENT
UID:f8889c322aeca2a4cd1aae893dff1c3a
DTSTAMP:20260423T223550Z
SUMMARY:Improv 2: Monoscene (3/6)
DESCRIPTION:taught by Michelle Gilliam\nat Online
DTSTART;TZID=America/Los_Angeles:20210518T110000
DTEND;TZID=America/Los_Angeles:20210518T130000
LOCATION:Online
END:VEVENT
BEGIN:VEVENT
UID:26e7a0d2e38e48dadb9d0c343743fd7f
DTSTAMP:20260423T223550Z
SUMMARY:Improv 2: Monoscene (4/6)
DESCRIPTION:taught by Michelle Gilliam\nat Online
DTSTART;TZID=America/Los_Angeles:20210525T110000
DTEND;TZID=America/Los_Angeles:20210525T130000
LOCATION:Online
END:VEVENT
BEGIN:VEVENT
UID:a7e683e5c5c4927bf61ef7ac201176c1
DTSTAMP:20260423T223550Z
SUMMARY:Improv 2: Monoscene (5/6)
DESCRIPTION:taught by Michelle Gilliam\nat Online
DTSTART;TZID=America/Los_Angeles:20210601T110000
DTEND;TZID=America/Los_Angeles:20210601T130000
LOCATION:Online
END:VEVENT
BEGIN:VEVENT
UID:ba84ea30b002f33d505c0b73cf61acdd
DTSTAMP:20260423T223550Z
SUMMARY:Improv 2: Monoscene (6/6)
DESCRIPTION:taught by Michelle Gilliam\nat Online
DTSTART;TZID=America/Los_Angeles:20210608T110000
DTEND;TZID=America/Los_Angeles:20210608T120000
LOCATION:Online
END:VEVENT
BEGIN:VTIMEZONE
TZID:America/Los_Angeles
BEGIN:DAYLIGHT
DTSTART:20260401T000000
TZNAME:PDT
TZOFFSETTO:-0700
TZOFFSETFROM:-0700
END:DAYLIGHT
END:VTIMEZONE
END:VCALENDAR
