BEGIN:VCALENDAR
PRODID:-//eluceo/ical//2.0/EN
VERSION:2.0
CALSCALE:GREGORIAN
BEGIN:VEVENT
UID:259b3b357fdd46bd594773978861a203
DTSTAMP:20260423T223702Z
SUMMARY:La Ronde (1/6)
DESCRIPTION:taught by Alex Berg\nat Online
DTSTART;TZID=America/Los_Angeles:20210504T110000
DTEND;TZID=America/Los_Angeles:20210504T130000
LOCATION:Online
END:VEVENT
BEGIN:VEVENT
UID:4b5a733876fbf9a141f57fbe70684308
DTSTAMP:20260423T223702Z
SUMMARY:La Ronde (2/6)
DESCRIPTION:taught by Alex Berg\nat Online
DTSTART;TZID=America/Los_Angeles:20210511T110000
DTEND;TZID=America/Los_Angeles:20210511T130000
LOCATION:Online
END:VEVENT
BEGIN:VEVENT
UID:8d4ef2eec351d220bb5a92e15c92f32b
DTSTAMP:20260423T223702Z
SUMMARY:La Ronde (3/6)
DESCRIPTION:taught by Alex Berg\nat Online
DTSTART;TZID=America/Los_Angeles:20210518T110000
DTEND;TZID=America/Los_Angeles:20210518T130000
LOCATION:Online
END:VEVENT
BEGIN:VEVENT
UID:d199589b3c0e7e205ec95f24a5e5999d
DTSTAMP:20260423T223702Z
SUMMARY:La Ronde (4/6)
DESCRIPTION:taught by Alex Berg\nat Online
DTSTART;TZID=America/Los_Angeles:20210525T110000
DTEND;TZID=America/Los_Angeles:20210525T130000
LOCATION:Online
END:VEVENT
BEGIN:VEVENT
UID:991ec7e3048cb5260ac9f3ff38e285e4
DTSTAMP:20260423T223702Z
SUMMARY:La Ronde (5/6)
DESCRIPTION:taught by Alex Berg\nat Online
DTSTART;TZID=America/Los_Angeles:20210601T110000
DTEND;TZID=America/Los_Angeles:20210601T130000
LOCATION:Online
END:VEVENT
BEGIN:VEVENT
UID:ff66268433d2fc1b2073264811ffd5eb
DTSTAMP:20260423T223702Z
SUMMARY:La Ronde (6/6)
DESCRIPTION:taught by Alex Berg\nat Online
DTSTART;TZID=America/Los_Angeles:20210608T110000
DTEND;TZID=America/Los_Angeles:20210608T130000
LOCATION:Online
END:VEVENT
BEGIN:VTIMEZONE
TZID:America/Los_Angeles
BEGIN:DAYLIGHT
DTSTART:20260401T000000
TZNAME:PDT
TZOFFSETTO:-0700
TZOFFSETFROM:-0700
END:DAYLIGHT
END:VTIMEZONE
END:VCALENDAR
