BEGIN:VCALENDAR
PRODID:-//eluceo/ical//2.0/EN
VERSION:2.0
CALSCALE:GREGORIAN
BEGIN:VEVENT
UID:71f9485333270eaf798cdef248a9105a
DTSTAMP:20260423T223509Z
SUMMARY:The Improvised Play (1/6)
DESCRIPTION:taught by Brandon Gardner\nat Online
DTSTART;TZID=America/Los_Angeles:20210518T150000
DTEND;TZID=America/Los_Angeles:20210518T170000
LOCATION:Online
END:VEVENT
BEGIN:VEVENT
UID:d53f1e7bfd324ef124530e4fcd2bf796
DTSTAMP:20260423T223509Z
SUMMARY:The Improvised Play (2/6)
DESCRIPTION:taught by Brandon Gardner\nat Online
DTSTART;TZID=America/Los_Angeles:20210525T150000
DTEND;TZID=America/Los_Angeles:20210525T170000
LOCATION:Online
END:VEVENT
BEGIN:VEVENT
UID:160b394f5ef0f6074c30e49a3b508fb1
DTSTAMP:20260423T223509Z
SUMMARY:The Improvised Play (3/6)
DESCRIPTION:taught by Brandon Gardner\nat Online
DTSTART;TZID=America/Los_Angeles:20210601T150000
DTEND;TZID=America/Los_Angeles:20210601T170000
LOCATION:Online
END:VEVENT
BEGIN:VEVENT
UID:0bc252a951b38fa7638b826fa6171804
DTSTAMP:20260423T223509Z
SUMMARY:The Improvised Play (4/6)
DESCRIPTION:taught by Brandon Gardner\nat Online
DTSTART;TZID=America/Los_Angeles:20210608T150000
DTEND;TZID=America/Los_Angeles:20210608T170000
LOCATION:Online
END:VEVENT
BEGIN:VEVENT
UID:8fc101fba779e27181898e0fbc8b6ace
DTSTAMP:20260423T223509Z
SUMMARY:The Improvised Play (5/6)
DESCRIPTION:taught by Brandon Gardner\nat Online
DTSTART;TZID=America/Los_Angeles:20210615T150000
DTEND;TZID=America/Los_Angeles:20210615T170000
LOCATION:Online
END:VEVENT
BEGIN:VEVENT
UID:a266a2aac2bea1e9e8693f23ac1f912f
DTSTAMP:20260423T223509Z
SUMMARY:The Improvised Play (6/6)
DESCRIPTION:taught by Brandon Gardner\nat Online
DTSTART;TZID=America/Los_Angeles:20210622T150000
DTEND;TZID=America/Los_Angeles:20210622T170000
LOCATION:Online
END:VEVENT
BEGIN:VTIMEZONE
TZID:America/Los_Angeles
BEGIN:DAYLIGHT
DTSTART:20260401T000000
TZNAME:PDT
TZOFFSETTO:-0700
TZOFFSETFROM:-0700
END:DAYLIGHT
END:VTIMEZONE
END:VCALENDAR
