BEGIN:VCALENDAR
PRODID:-//eluceo/ical//2.0/EN
VERSION:2.0
CALSCALE:GREGORIAN
BEGIN:VEVENT
UID:20e5b3a105b75b49acb2bd0d2c84fa6f
DTSTAMP:20260423T223627Z
SUMMARY:Duo Class (1/5)
DESCRIPTION:taught by Alex Berg\nat Online
DTSTART;TZID=America/Los_Angeles:20210504T170000
DTEND;TZID=America/Los_Angeles:20210504T190000
LOCATION:Online
END:VEVENT
BEGIN:VEVENT
UID:df9ad6933ee3d20beb7063bea67cf0a3
DTSTAMP:20260423T223627Z
SUMMARY:Duo Class (2/5)
DESCRIPTION:taught by Alex Berg\nat Online
DTSTART;TZID=America/Los_Angeles:20210511T170000
DTEND;TZID=America/Los_Angeles:20210511T190000
LOCATION:Online
END:VEVENT
BEGIN:VEVENT
UID:2685150c52d4ef7e7aec13c80220544d
DTSTAMP:20260423T223627Z
SUMMARY:Duo Class (3/5)
DESCRIPTION:taught by Alex Berg\nat Online
DTSTART;TZID=America/Los_Angeles:20210518T170000
DTEND;TZID=America/Los_Angeles:20210518T190000
LOCATION:Online
END:VEVENT
BEGIN:VEVENT
UID:ff895a21a2e75c041a7759671125c423
DTSTAMP:20260423T223627Z
SUMMARY:Duo Class (4/5)
DESCRIPTION:taught by Alex Berg\nat Online
DTSTART;TZID=America/Los_Angeles:20210525T170000
DTEND;TZID=America/Los_Angeles:20210525T190000
LOCATION:Online
END:VEVENT
BEGIN:VEVENT
UID:0ff68ca5ff05a49f45a5e41d7645a758
DTSTAMP:20260423T223627Z
SUMMARY:Duo Class (5/5)
DESCRIPTION:taught by Alex Berg\nat Online
DTSTART;TZID=America/Los_Angeles:20210601T170000
DTEND;TZID=America/Los_Angeles:20210601T190000
LOCATION:Online
END:VEVENT
BEGIN:VTIMEZONE
TZID:America/Los_Angeles
BEGIN:DAYLIGHT
DTSTART:20260401T000000
TZNAME:PDT
TZOFFSETTO:-0700
TZOFFSETFROM:-0700
END:DAYLIGHT
END:VTIMEZONE
END:VCALENDAR
