BEGIN:VCALENDAR
PRODID:-//eluceo/ical//2.0/EN
VERSION:2.0
CALSCALE:GREGORIAN
BEGIN:VEVENT
UID:e3330863801a6b1e3d5e5515a0e63b51
DTSTAMP:20260423T223509Z
SUMMARY:Improv 4: Headless Harold (1/6)
DESCRIPTION:taught by Will Hines\nat Online
DTSTART;TZID=America/Los_Angeles:20210505T110000
DTEND;TZID=America/Los_Angeles:20210505T130000
LOCATION:Online
END:VEVENT
BEGIN:VEVENT
UID:d6f496b23bad352038f241da667226ce
DTSTAMP:20260423T223509Z
SUMMARY:Improv 4: Headless Harold (2/6)
DESCRIPTION:taught by Will Hines\nat Online
DTSTART;TZID=America/Los_Angeles:20210512T110000
DTEND;TZID=America/Los_Angeles:20210512T130000
LOCATION:Online
END:VEVENT
BEGIN:VEVENT
UID:7f16527310127958e09af60126908915
DTSTAMP:20260423T223509Z
SUMMARY:Improv 4: Headless Harold (3/6)
DESCRIPTION:taught by Will Hines\nat Online
DTSTART;TZID=America/Los_Angeles:20210519T110000
DTEND;TZID=America/Los_Angeles:20210519T130000
LOCATION:Online
END:VEVENT
BEGIN:VEVENT
UID:29081b6f92a61ba61a4f579e55ab9217
DTSTAMP:20260423T223509Z
SUMMARY:Improv 4: Headless Harold (4/6)
DESCRIPTION:taught by Will Hines\nat Online
DTSTART;TZID=America/Los_Angeles:20210526T110000
DTEND;TZID=America/Los_Angeles:20210526T130000
LOCATION:Online
END:VEVENT
BEGIN:VEVENT
UID:84d2c4399b26ec2f1b06755081178b31
DTSTAMP:20260423T223509Z
SUMMARY:Improv 4: Headless Harold (5/6)
DESCRIPTION:taught by Will Hines\nat Online
DTSTART;TZID=America/Los_Angeles:20210602T110000
DTEND;TZID=America/Los_Angeles:20210602T130000
LOCATION:Online
END:VEVENT
BEGIN:VEVENT
UID:d943ccbbbad76956df38197367bda5f6
DTSTAMP:20260423T223509Z
SUMMARY:Improv 4: Headless Harold (6/6)
DESCRIPTION:taught by Will Hines\nat Online
DTSTART;TZID=America/Los_Angeles:20210609T120000
DTEND;TZID=America/Los_Angeles:20210609T130000
LOCATION:Online
END:VEVENT
BEGIN:VTIMEZONE
TZID:America/Los_Angeles
BEGIN:DAYLIGHT
DTSTART:20260401T000000
TZNAME:PDT
TZOFFSETTO:-0700
TZOFFSETFROM:-0700
END:DAYLIGHT
END:VTIMEZONE
END:VCALENDAR
