BEGIN:VCALENDAR
PRODID:-//eluceo/ical//2.0/EN
VERSION:2.0
CALSCALE:GREGORIAN
BEGIN:VEVENT
UID:8f837f7200c9602fcb092cc622cb9e45
DTSTAMP:20260423T223759Z
SUMMARY:Improv 4: Headless Harold (1/6)
DESCRIPTION:taught by Will Hines\nat Online
DTSTART;TZID=America/Los_Angeles:20210505T170000
DTEND;TZID=America/Los_Angeles:20210505T190000
LOCATION:Online
END:VEVENT
BEGIN:VEVENT
UID:85e8a3667c364e67d9e70d53fa9baec0
DTSTAMP:20260423T223759Z
SUMMARY:Improv 4: Headless Harold (2/6)
DESCRIPTION:taught by Will Hines\nat Online
DTSTART;TZID=America/Los_Angeles:20210512T170000
DTEND;TZID=America/Los_Angeles:20210512T190000
LOCATION:Online
END:VEVENT
BEGIN:VEVENT
UID:d4525f264a36281349de4cf88eab79a4
DTSTAMP:20260423T223759Z
SUMMARY:Improv 4: Headless Harold (3/6)
DESCRIPTION:taught by Will Hines\nat Online
DTSTART;TZID=America/Los_Angeles:20210519T170000
DTEND;TZID=America/Los_Angeles:20210519T190000
LOCATION:Online
END:VEVENT
BEGIN:VEVENT
UID:bf804cff67e84da5450e911fd2d44ab7
DTSTAMP:20260423T223759Z
SUMMARY:Improv 4: Headless Harold (4/6)
DESCRIPTION:taught by Will Hines\nat Online
DTSTART;TZID=America/Los_Angeles:20210526T170000
DTEND;TZID=America/Los_Angeles:20210526T190000
LOCATION:Online
END:VEVENT
BEGIN:VEVENT
UID:92b8c9ffe2c2e0eac64a913f84972047
DTSTAMP:20260423T223759Z
SUMMARY:Improv 4: Headless Harold (5/6)
DESCRIPTION:taught by Will Hines\nat Online
DTSTART;TZID=America/Los_Angeles:20210602T170000
DTEND;TZID=America/Los_Angeles:20210602T190000
LOCATION:Online
END:VEVENT
BEGIN:VEVENT
UID:658dcdaf5454ee34f1413ab10cc0d3ee
DTSTAMP:20260423T223759Z
SUMMARY:Improv 4: Headless Harold (6/6)
DESCRIPTION:taught by Will Hines\nat Online
DTSTART;TZID=America/Los_Angeles:20210609T180000
DTEND;TZID=America/Los_Angeles:20210609T190000
LOCATION:Online
END:VEVENT
BEGIN:VTIMEZONE
TZID:America/Los_Angeles
BEGIN:DAYLIGHT
DTSTART:20260401T000000
TZNAME:PDT
TZOFFSETTO:-0700
TZOFFSETFROM:-0700
END:DAYLIGHT
END:VTIMEZONE
END:VCALENDAR
