BEGIN:VCALENDAR
PRODID:-//eluceo/ical//2.0/EN
VERSION:2.0
CALSCALE:GREGORIAN
BEGIN:VEVENT
UID:65e255617eaedf4b6eb48772f7668665
DTSTAMP:20260421T172223Z
SUMMARY:Improv 3: 8 Lines To A Perfect Harold (1/6)
DESCRIPTION:taught by Aman Adumer\nat Online
DTSTART;TZID=America/Los_Angeles:20210506T170000
DTEND;TZID=America/Los_Angeles:20210506T190000
LOCATION:Online
END:VEVENT
BEGIN:VEVENT
UID:030634689c6b4394282217c2734720de
DTSTAMP:20260421T172223Z
SUMMARY:Improv 3: 8 Lines To A Perfect Harold (2/6)
DESCRIPTION:taught by Aman Adumer\nat Online
DTSTART;TZID=America/Los_Angeles:20210513T170000
DTEND;TZID=America/Los_Angeles:20210513T190000
LOCATION:Online
END:VEVENT
BEGIN:VEVENT
UID:4d546e33bf745341092023c8fd7028db
DTSTAMP:20260421T172223Z
SUMMARY:Improv 3: 8 Lines To A Perfect Harold (3/6)
DESCRIPTION:taught by Aman Adumer\nat Online
DTSTART;TZID=America/Los_Angeles:20210520T170000
DTEND;TZID=America/Los_Angeles:20210520T190000
LOCATION:Online
END:VEVENT
BEGIN:VEVENT
UID:3905b49ccf658104e39e4d6b8eff23b3
DTSTAMP:20260421T172223Z
SUMMARY:Improv 3: 8 Lines To A Perfect Harold (4/6)
DESCRIPTION:taught by Aman Adumer\nat Online
DTSTART;TZID=America/Los_Angeles:20210527T170000
DTEND;TZID=America/Los_Angeles:20210527T190000
LOCATION:Online
END:VEVENT
BEGIN:VEVENT
UID:7b0ec789db998ee8570dc95364f51754
DTSTAMP:20260421T172223Z
SUMMARY:Improv 3: 8 Lines To A Perfect Harold (5/6)
DESCRIPTION:taught by Aman Adumer\nat Online
DTSTART;TZID=America/Los_Angeles:20210603T170000
DTEND;TZID=America/Los_Angeles:20210603T190000
LOCATION:Online
END:VEVENT
BEGIN:VEVENT
UID:962017b84f49d392ddbe10328c95bcc0
DTSTAMP:20260421T172223Z
SUMMARY:Improv 3: 8 Lines To A Perfect Harold (6/6)
DESCRIPTION:taught by Aman Adumer\nat Online
DTSTART;TZID=America/Los_Angeles:20210610T183000
DTEND;TZID=America/Los_Angeles:20210610T193000
LOCATION:Online
END:VEVENT
BEGIN:VTIMEZONE
TZID:America/Los_Angeles
BEGIN:DAYLIGHT
DTSTART:20260401T000000
TZNAME:PDT
TZOFFSETTO:-0700
TZOFFSETFROM:-0700
END:DAYLIGHT
END:VTIMEZONE
END:VCALENDAR
