BEGIN:VCALENDAR
PRODID:-//eluceo/ical//2.0/EN
VERSION:2.0
CALSCALE:GREGORIAN
BEGIN:VEVENT
UID:201348c62d35eb6fe58aba423470330c
DTSTAMP:20260423T223621Z
SUMMARY:The Glen (1/6)
DESCRIPTION:taught by Jason Perez\nat Online
DTSTART;TZID=America/Los_Angeles:20210502T110000
DTEND;TZID=America/Los_Angeles:20210502T130000
LOCATION:Online
END:VEVENT
BEGIN:VEVENT
UID:a80d5002f394c0c51dfc0c5cedc9b34a
DTSTAMP:20260423T223621Z
SUMMARY:The Glen (2/6)
DESCRIPTION:taught by Jason Perez\nat Online
DTSTART;TZID=America/Los_Angeles:20210509T110000
DTEND;TZID=America/Los_Angeles:20210509T130000
LOCATION:Online
END:VEVENT
BEGIN:VEVENT
UID:da640469b4fd5c0dcbea121833f192d1
DTSTAMP:20260423T223621Z
SUMMARY:The Glen (3/6)
DESCRIPTION:taught by Jason Perez\nat Online
DTSTART;TZID=America/Los_Angeles:20210516T110000
DTEND;TZID=America/Los_Angeles:20210516T130000
LOCATION:Online
END:VEVENT
BEGIN:VEVENT
UID:f52f2ab8259334b143ca9226798e96bc
DTSTAMP:20260423T223621Z
SUMMARY:The Glen (4/6)
DESCRIPTION:taught by Jason Perez\nat Online
DTSTART;TZID=America/Los_Angeles:20210523T110000
DTEND;TZID=America/Los_Angeles:20210523T130000
LOCATION:Online
END:VEVENT
BEGIN:VEVENT
UID:5b5591cc3d758f764b7f02c4e4ed68ea
DTSTAMP:20260423T223621Z
SUMMARY:The Glen (5/6)
DESCRIPTION:taught by Jason Perez\nat Online
DTSTART;TZID=America/Los_Angeles:20210530T110000
DTEND;TZID=America/Los_Angeles:20210530T130000
LOCATION:Online
END:VEVENT
BEGIN:VEVENT
UID:dabe17814e8e0fce7a19153da2d0511e
DTSTAMP:20260423T223621Z
SUMMARY:The Glen (6/6)
DESCRIPTION:taught by Jason Perez\nat Online
DTSTART;TZID=America/Los_Angeles:20210604T120000
DTEND;TZID=America/Los_Angeles:20210604T130000
LOCATION:Online
END:VEVENT
BEGIN:VTIMEZONE
TZID:America/Los_Angeles
BEGIN:DAYLIGHT
DTSTART:20260401T000000
TZNAME:PDT
TZOFFSETTO:-0700
TZOFFSETFROM:-0700
END:DAYLIGHT
END:VTIMEZONE
END:VCALENDAR
