BEGIN:VCALENDAR
PRODID:-//eluceo/ical//2.0/EN
VERSION:2.0
CALSCALE:GREGORIAN
BEGIN:VEVENT
UID:ab3ad22acbe1f2cbf79d7e34e879f825
DTSTAMP:20260424T013222Z
SUMMARY:Let's Play Game (1/1)
DESCRIPTION:taught by Ronnie Adrian\nat Online
DTSTART;TZID=America/Los_Angeles:20210419T170000
DTEND;TZID=America/Los_Angeles:20210419T193000
LOCATION:Online
END:VEVENT
BEGIN:VTIMEZONE
TZID:America/Los_Angeles
BEGIN:DAYLIGHT
DTSTART:20260401T000000
TZNAME:PDT
TZOFFSETTO:-0700
TZOFFSETFROM:-0700
END:DAYLIGHT
END:VTIMEZONE
END:VCALENDAR
