BEGIN:VCALENDAR
PRODID:-//eluceo/ical//2.0/EN
VERSION:2.0
CALSCALE:GREGORIAN
BEGIN:VEVENT
UID:284ae2fd272411e15fd23c3a5255f735
DTSTAMP:20260423T222836Z
SUMMARY:Emotional Heightening (Game) (1/6)
DESCRIPTION:taught by Alex Berg\nat Online
DTSTART;TZID=America/Los_Angeles:20210510T160000
DTEND;TZID=America/Los_Angeles:20210510T180000
LOCATION:Online
END:VEVENT
BEGIN:VEVENT
UID:2f4714ff8354e70155c409e019c5601a
DTSTAMP:20260423T222836Z
SUMMARY:Emotional Heightening (Game) (2/6)
DESCRIPTION:taught by Alex Berg\nat Online
DTSTART;TZID=America/Los_Angeles:20210517T160000
DTEND;TZID=America/Los_Angeles:20210517T180000
LOCATION:Online
END:VEVENT
BEGIN:VEVENT
UID:b352fdbe309f94ad87714079f48603dd
DTSTAMP:20260423T222836Z
SUMMARY:Emotional Heightening (Game) (3/6)
DESCRIPTION:taught by Alex Berg\nat Online
DTSTART;TZID=America/Los_Angeles:20210524T160000
DTEND;TZID=America/Los_Angeles:20210524T180000
LOCATION:Online
END:VEVENT
BEGIN:VEVENT
UID:3a37e489044b95f994224547fc969d43
DTSTAMP:20260423T222836Z
SUMMARY:Emotional Heightening (Game) (4/6)
DESCRIPTION:taught by Alex Berg\nat Online
DTSTART;TZID=America/Los_Angeles:20210607T160000
DTEND;TZID=America/Los_Angeles:20210607T180000
LOCATION:Online
END:VEVENT
BEGIN:VEVENT
UID:ca0641c5a71d1d67bcf49b36ade7d8c7
DTSTAMP:20260423T222836Z
SUMMARY:Emotional Heightening (Game) (5/6)
DESCRIPTION:taught by Alex Berg\nat Online
DTSTART;TZID=America/Los_Angeles:20210614T160000
DTEND;TZID=America/Los_Angeles:20210614T180000
LOCATION:Online
END:VEVENT
BEGIN:VEVENT
UID:a561a605b5b3c2bb111df82f01879a94
DTSTAMP:20260423T222836Z
SUMMARY:Emotional Heightening (Game) (6/6)
DESCRIPTION:taught by Alex Berg\nat Online
DTSTART;TZID=America/Los_Angeles:20210621T160000
DTEND;TZID=America/Los_Angeles:20210621T180000
LOCATION:Online
END:VEVENT
BEGIN:VTIMEZONE
TZID:America/Los_Angeles
BEGIN:DAYLIGHT
DTSTART:20260401T000000
TZNAME:PDT
TZOFFSETTO:-0700
TZOFFSETFROM:-0700
END:DAYLIGHT
END:VTIMEZONE
END:VCALENDAR
