BEGIN:VCALENDAR
PRODID:-//eluceo/ical//2.0/EN
VERSION:2.0
CALSCALE:GREGORIAN
BEGIN:VEVENT
UID:0f059528e2165e07cab84a967dc77c20
DTSTAMP:20260423T192449Z
SUMMARY:La Ronde (1/6)
DESCRIPTION:taught by Alex Berg\nat Online
DTSTART;TZID=America/Los_Angeles:20210705T170000
DTEND;TZID=America/Los_Angeles:20210705T190000
LOCATION:Online
END:VEVENT
BEGIN:VEVENT
UID:08dd2926b66d36a834f091b7eab8d068
DTSTAMP:20260423T192449Z
SUMMARY:La Ronde (2/6)
DESCRIPTION:taught by Alex Berg\nat Online
DTSTART;TZID=America/Los_Angeles:20210712T170000
DTEND;TZID=America/Los_Angeles:20210712T190000
LOCATION:Online
END:VEVENT
BEGIN:VEVENT
UID:02313d85acb365eaeb30112ff63e92fc
DTSTAMP:20260423T192449Z
SUMMARY:La Ronde (3/6)
DESCRIPTION:taught by Alex Berg\nat Online
DTSTART;TZID=America/Los_Angeles:20210719T170000
DTEND;TZID=America/Los_Angeles:20210719T190000
LOCATION:Online
END:VEVENT
BEGIN:VEVENT
UID:9a8e115f359fac5a87c9cad08b2b5378
DTSTAMP:20260423T192449Z
SUMMARY:La Ronde (4/6)
DESCRIPTION:taught by Alex Berg\nat Online
DTSTART;TZID=America/Los_Angeles:20210726T170000
DTEND;TZID=America/Los_Angeles:20210726T190000
LOCATION:Online
END:VEVENT
BEGIN:VEVENT
UID:5661fe0632d4388caedb2738d8310eae
DTSTAMP:20260423T192449Z
SUMMARY:La Ronde (5/6)
DESCRIPTION:taught by Alex Berg\nat Online
DTSTART;TZID=America/Los_Angeles:20210802T170000
DTEND;TZID=America/Los_Angeles:20210802T190000
LOCATION:Online
END:VEVENT
BEGIN:VEVENT
UID:390bffc399dd4c51373e9ce46325bf7e
DTSTAMP:20260423T192449Z
SUMMARY:La Ronde (6/6)
DESCRIPTION:taught by Alex Berg\nat Online
DTSTART;TZID=America/Los_Angeles:20210809T170000
DTEND;TZID=America/Los_Angeles:20210809T190000
LOCATION:Online
END:VEVENT
BEGIN:VTIMEZONE
TZID:America/Los_Angeles
BEGIN:DAYLIGHT
DTSTART:20260401T000000
TZNAME:PDT
TZOFFSETTO:-0700
TZOFFSETFROM:-0700
END:DAYLIGHT
END:VTIMEZONE
END:VCALENDAR
