BEGIN:VCALENDAR
PRODID:-//eluceo/ical//2.0/EN
VERSION:2.0
CALSCALE:GREGORIAN
BEGIN:VEVENT
UID:2c52adf49d8161a7e062263b8f6adc57
DTSTAMP:20260423T192059Z
SUMMARY:Initiations! (1/6)
DESCRIPTION:taught by Sarah Claspell\nat Online
DTSTART;TZID=America/Los_Angeles:20210706T110000
DTEND;TZID=America/Los_Angeles:20210706T130000
LOCATION:Online
END:VEVENT
BEGIN:VEVENT
UID:16268f434ab5cf0d1886642ba6a0e5d9
DTSTAMP:20260423T192059Z
SUMMARY:Initiations! (2/6)
DESCRIPTION:taught by Sarah Claspell\nat Online
DTSTART;TZID=America/Los_Angeles:20210713T110000
DTEND;TZID=America/Los_Angeles:20210713T130000
LOCATION:Online
END:VEVENT
BEGIN:VEVENT
UID:24e941673c6b2322ef50495ba9570449
DTSTAMP:20260423T192059Z
SUMMARY:Initiations! (3/6)
DESCRIPTION:taught by Sarah Claspell\nat Online
DTSTART;TZID=America/Los_Angeles:20210720T110000
DTEND;TZID=America/Los_Angeles:20210720T130000
LOCATION:Online
END:VEVENT
BEGIN:VEVENT
UID:e7c6dd8fc2706ef1338ab1c50465dc0c
DTSTAMP:20260423T192059Z
SUMMARY:Initiations! (4/6)
DESCRIPTION:taught by Sarah Claspell\nat Online
DTSTART;TZID=America/Los_Angeles:20210727T110000
DTEND;TZID=America/Los_Angeles:20210727T130000
LOCATION:Online
END:VEVENT
BEGIN:VEVENT
UID:cf7a1fc2039604403850d59ad6d0c159
DTSTAMP:20260423T192059Z
SUMMARY:Initiations! (5/6)
DESCRIPTION:taught by Sarah Claspell\nat Online
DTSTART;TZID=America/Los_Angeles:20210803T110000
DTEND;TZID=America/Los_Angeles:20210803T130000
LOCATION:Online
END:VEVENT
BEGIN:VEVENT
UID:4567f5951cf06b212b127a9d059f2d4a
DTSTAMP:20260423T192059Z
SUMMARY:Initiations! (6/6)
DESCRIPTION:taught by Sarah Claspell\nat Online
DTSTART;TZID=America/Los_Angeles:20210810T120000
DTEND;TZID=America/Los_Angeles:20210810T130000
LOCATION:Online
END:VEVENT
BEGIN:VTIMEZONE
TZID:America/Los_Angeles
BEGIN:DAYLIGHT
DTSTART:20260401T000000
TZNAME:PDT
TZOFFSETTO:-0700
TZOFFSETFROM:-0700
END:DAYLIGHT
END:VTIMEZONE
END:VCALENDAR
