BEGIN:VCALENDAR
PRODID:-//eluceo/ical//2.0/EN
VERSION:2.0
CALSCALE:GREGORIAN
BEGIN:VEVENT
UID:3d72b7e4ed1bc1d398dac31eee6c42d6
DTSTAMP:20260423T192203Z
SUMMARY:Emotional Heightening (Game) (1/6)
DESCRIPTION:taught by Alex Berg\nat Online
DTSTART;TZID=America/Los_Angeles:20210706T160000
DTEND;TZID=America/Los_Angeles:20210706T180000
LOCATION:Online
END:VEVENT
BEGIN:VEVENT
UID:144ca4d1713fdd76abd0a59bce8049cd
DTSTAMP:20260423T192203Z
SUMMARY:Emotional Heightening (Game) (2/6)
DESCRIPTION:taught by Alex Berg\nat Online
DTSTART;TZID=America/Los_Angeles:20210720T160000
DTEND;TZID=America/Los_Angeles:20210720T180000
LOCATION:Online
END:VEVENT
BEGIN:VEVENT
UID:8861b8b50ee6c573ddbfc0362343db1e
DTSTAMP:20260423T192203Z
SUMMARY:Emotional Heightening (Game) (3/6)
DESCRIPTION:taught by Alex Berg\nat Online
DTSTART;TZID=America/Los_Angeles:20210727T160000
DTEND;TZID=America/Los_Angeles:20210727T180000
LOCATION:Online
END:VEVENT
BEGIN:VEVENT
UID:1ce9bd90ec01080b8e598df18d1560f7
DTSTAMP:20260423T192203Z
SUMMARY:Emotional Heightening (Game) (4/6)
DESCRIPTION:taught by Alex Berg\nat Online
DTSTART;TZID=America/Los_Angeles:20210803T160000
DTEND;TZID=America/Los_Angeles:20210803T180000
LOCATION:Online
END:VEVENT
BEGIN:VEVENT
UID:051e5ac9a1a764a462140edab01bba2a
DTSTAMP:20260423T192203Z
SUMMARY:Emotional Heightening (Game) (5/6)
DESCRIPTION:taught by Alex Berg\nat Online
DTSTART;TZID=America/Los_Angeles:20210810T160000
DTEND;TZID=America/Los_Angeles:20210810T180000
LOCATION:Online
END:VEVENT
BEGIN:VEVENT
UID:4d6cf0884ac0dae841d0fc1526357f66
DTSTAMP:20260423T192203Z
SUMMARY:Emotional Heightening (Game) (6/6)
DESCRIPTION:taught by Alex Berg\nat Online
DTSTART;TZID=America/Los_Angeles:20210817T160000
DTEND;TZID=America/Los_Angeles:20210817T180000
LOCATION:Online
END:VEVENT
BEGIN:VTIMEZONE
TZID:America/Los_Angeles
BEGIN:DAYLIGHT
DTSTART:20260401T000000
TZNAME:PDT
TZOFFSETTO:-0700
TZOFFSETFROM:-0700
END:DAYLIGHT
END:VTIMEZONE
END:VCALENDAR
