BEGIN:VCALENDAR
PRODID:-//eluceo/ical//2.0/EN
VERSION:2.0
CALSCALE:GREGORIAN
BEGIN:VEVENT
UID:d5f58f1dcbf22f967c1fc254e5299e7f
DTSTAMP:20260423T192120Z
SUMMARY:Better Scenes (1/6)
DESCRIPTION:taught by Will Hines\nat Online
DTSTART;TZID=America/Los_Angeles:20210706T170000
DTEND;TZID=America/Los_Angeles:20210706T190000
LOCATION:Online
END:VEVENT
BEGIN:VEVENT
UID:eb856b5420ac0fc741b69cd96bd8d392
DTSTAMP:20260423T192120Z
SUMMARY:Better Scenes (2/6)
DESCRIPTION:taught by Will Hines\nat Online
DTSTART;TZID=America/Los_Angeles:20210713T170000
DTEND;TZID=America/Los_Angeles:20210713T190000
LOCATION:Online
END:VEVENT
BEGIN:VEVENT
UID:2c11bf881ab5e5da264c3d5d097144e4
DTSTAMP:20260423T192120Z
SUMMARY:Better Scenes (3/6)
DESCRIPTION:taught by Will Hines\nat Online
DTSTART;TZID=America/Los_Angeles:20210720T170000
DTEND;TZID=America/Los_Angeles:20210720T190000
LOCATION:Online
END:VEVENT
BEGIN:VEVENT
UID:c16ec009d6fe31e374a5ad66389c75b1
DTSTAMP:20260423T192120Z
SUMMARY:Better Scenes (4/6)
DESCRIPTION:taught by Will Hines\nat Online
DTSTART;TZID=America/Los_Angeles:20210727T170000
DTEND;TZID=America/Los_Angeles:20210727T190000
LOCATION:Online
END:VEVENT
BEGIN:VEVENT
UID:00d2a910ec2ca25987d3e93b317751f4
DTSTAMP:20260423T192120Z
SUMMARY:Better Scenes (5/6)
DESCRIPTION:taught by Will Hines\nat Online
DTSTART;TZID=America/Los_Angeles:20210803T170000
DTEND;TZID=America/Los_Angeles:20210803T190000
LOCATION:Online
END:VEVENT
BEGIN:VEVENT
UID:065349e3d3229d4b888e276c3598e20c
DTSTAMP:20260423T192120Z
SUMMARY:Better Scenes (6/6)
DESCRIPTION:taught by Will Hines\nat Online
DTSTART;TZID=America/Los_Angeles:20210810T170000
DTEND;TZID=America/Los_Angeles:20210810T180000
LOCATION:Online
END:VEVENT
BEGIN:VTIMEZONE
TZID:America/Los_Angeles
BEGIN:DAYLIGHT
DTSTART:20260401T000000
TZNAME:PDT
TZOFFSETTO:-0700
TZOFFSETFROM:-0700
END:DAYLIGHT
END:VTIMEZONE
END:VCALENDAR
