BEGIN:VCALENDAR
PRODID:-//eluceo/ical//2.0/EN
VERSION:2.0
CALSCALE:GREGORIAN
BEGIN:VEVENT
UID:6d37b135a4450efc1fe9b0ad0845d2b4
DTSTAMP:20260423T192120Z
SUMMARY:Better Scenes (1/6)
DESCRIPTION:taught by Will Hines\nat Online
DTSTART;TZID=America/Los_Angeles:20210707T110000
DTEND;TZID=America/Los_Angeles:20210707T130000
LOCATION:Online
END:VEVENT
BEGIN:VEVENT
UID:05134451b59ca81dd69fd8a1c3ceb373
DTSTAMP:20260423T192120Z
SUMMARY:Better Scenes (2/6)
DESCRIPTION:taught by Will Hines\nat Online
DTSTART;TZID=America/Los_Angeles:20210714T110000
DTEND;TZID=America/Los_Angeles:20210714T130000
LOCATION:Online
END:VEVENT
BEGIN:VEVENT
UID:8e0e4c8bd8ddf38b25d6420755143155
DTSTAMP:20260423T192120Z
SUMMARY:Better Scenes (3/6)
DESCRIPTION:taught by Will Hines\nat Online
DTSTART;TZID=America/Los_Angeles:20210721T110000
DTEND;TZID=America/Los_Angeles:20210721T130000
LOCATION:Online
END:VEVENT
BEGIN:VEVENT
UID:23a34275a926a8018b1ef3d8aab10cc7
DTSTAMP:20260423T192120Z
SUMMARY:Better Scenes (4/6)
DESCRIPTION:taught by Will Hines\nat Online
DTSTART;TZID=America/Los_Angeles:20210728T110000
DTEND;TZID=America/Los_Angeles:20210728T130000
LOCATION:Online
END:VEVENT
BEGIN:VEVENT
UID:4858ca6a06b17e0cd70c0b90497ed050
DTSTAMP:20260423T192120Z
SUMMARY:Better Scenes (5/6)
DESCRIPTION:taught by Will Hines\nat Online
DTSTART;TZID=America/Los_Angeles:20210804T110000
DTEND;TZID=America/Los_Angeles:20210804T130000
LOCATION:Online
END:VEVENT
BEGIN:VEVENT
UID:6e299a04510272ce89772eccfffedbc5
DTSTAMP:20260423T192120Z
SUMMARY:Better Scenes (6/6)
DESCRIPTION:taught by Will Hines\nat Online
DTSTART;TZID=America/Los_Angeles:20210811T110000
DTEND;TZID=America/Los_Angeles:20210811T120000
LOCATION:Online
END:VEVENT
BEGIN:VTIMEZONE
TZID:America/Los_Angeles
BEGIN:DAYLIGHT
DTSTART:20260401T000000
TZNAME:PDT
TZOFFSETTO:-0700
TZOFFSETFROM:-0700
END:DAYLIGHT
END:VTIMEZONE
END:VCALENDAR
